{"text_format":"2","workbook":"xlsx","n_sheets":18,"sheets":["List","A0","A1","A2","A3","A4","A5","A6","S0-1","S0-2~F","S1","S2","S3","S4","S5","分项能耗标尺","T","行业分项树与标准分项树对应"],"not_rendered":{"charts":0,"images":0,"macros":0,"external_links":1,"defined_names":0,"comments":1,"pivot_tables":0},"unopened":[],"bounds":{"document_bytes":16777216,"sheet_cells":100000,"run_cost":"one","rows_first":2000,"rows_last":500,"rows_between":2000,"halvings":0,"cell_chars":16384,"cell_head_chars":4096},"cells_cut":0,"cells_raw":0,"read":"whole","date_system":"1900"}

{"sheet":"List","index":0,"n_rows":21,"n_cols":7,"rows_kept":21,"cut":false,"hidden":false,"merged":[[1,4,15,4]]}
[]
[null,"编码","分项树",null,"通用分项树S0","电",1]
[null,"A0","标准面积树",null,null,"冷",2]
[null,"A1","商业综合体面积树",null,null,"热",3]
[null,"A2","办公面积树",null,null,"自来水",4]
[null,"A3","商场面积树",null,null,"燃气",5]
[null,"A4","宾馆酒店面积树",null,null,"燃油",6]
[null,"A5","医院面积树",null,null,"蒸汽",7]
[null,"A6","学校面积树",null,null,"热水",8]
[null,"A7","住宅面积树",null,null,"汽油",9]
[{"$nulls":5},"原煤",10]
[null,"S0","通用分项树",null,null,"焦炭",11]
[null,"S1","商业综合体分项树",null,null,"标煤",12]
[null,"S2","办公分项树",null,null,"CO2排放",13]
[null,"S3","商场分项树",null,null,"森林面积",14]
[null,"S4","宾馆酒店分项树",null,null,"能源费用",15]
[null,"S5","医院分项树"]
[null,"S6","学校分项树"]
[null,"S7","住宅分项树"]
[]
[null,"T","分项树对应关系"]

{"sheet":"A0","index":1,"n_rows":115,"n_cols":7,"rows_kept":115,"cut":false,"hidden":false,"merged":[]}
[]
[null,"名称","编码",null,null,"备注","调研配置要求"]
[null,"建筑总面积","00",null,null,null,"必填"]
[null,"空调面积","01",null,null,null,"必填"]
[null,"采暖面积","02",null,null,null,"必填"]
[null,"商业面积","03"]
[null,null,null,"地上商业面积","0301"]
[null,null,null,"地下商业面积","0302"]
[null,null,null,"其他商业面积","0303"]
[null,"公区面积","04",null,null,null,"必填"]
[null,null,null,"自持写字楼公区面积","0401"]
[null,null,null,"外租写字楼公区面积","0402"]
[null,null,null,"自持商业公区面积","0403","如万达商管公区面积"]
[null,null,null,"外租商业公区面积","0404","如万达金街公区面积"]
[null,null,null,"其他自持公区面积","0405","如SOHO的3Q公区面积"]
[null,null,null,"其他外租公区面积","0406"]
[null,"租户面积","05",null,null,null,"必填"]
[null,null,null,"自持写字楼租户面积","0501"]
[null,null,null,"外租写字楼租户面积","0502"]
[null,null,null,"自持商业租户面积","0503","如万达自营主力店面积"]
[null,null,null,"外租商业租户面积","0504","如万达外租商户面积"]
[null,null,null,"公寓租户面积","0505","如SOHO的3Q租户面积"]
[null,null,null,"住宅租户面积","0506"]
[null,null,null,"3Q租户面积","0507"]
[null,null,null,"其他租户面积","0508"]
[null,null,null,"步行街小商铺","0509"]
[null,null,null,"非自持主力店","0510"]
[null,"停车场面积","06",null,null,null,"必填"]
[null,null,null,"普通车位面积","0601"]
[null,null,null,"充电车位面积","0602"]
[null,null,null,"其他停车场面积","0603"]
[null,"设备机房面积","07",null,null,null,"必填"]
[null,null,null,"冷站机房","0701"]
[null,null,null,"热站机房","0702","如锅炉房"]
[null,null,null,"空调末端机房","0703","如新风机房、空调机房等"]
[null,null,null,"强电机房","0704"]
[null,null,null,"弱电机房","0705"]
[null,null,null,"消防机房","0706"]
[null,null,null,"综合机房","0707","如万达慧云机房"]
[null,null,null,"信息机房","0708"]
[null,null,null,"变配电机房","0709"]
[null,null,null,"其他机房","0710"]
[null,"后勤面积","08",null,null,null,"必填"]
[null,null,null,"后勤办公","0801"]
[null,null,null,"食堂","0802"]
[null,null,null,"宿舍","0803"]
[null,null,null,"其他后勤区","0804"]
[null,"特殊功能区面积","09"]
[null,null,null,"零售","0901"]
[null,null,null,"餐饮","0902"]
[null,null,null,"文娱","0903"]
[null,null,null,"影院","0904"]
[null,null,null,"百货","0905"]
[null,null,null,"超市","0906"]
[null,null,null,"KTV","0907","如万达大歌星"]
[null,null,null,"儿童游艺","0908","如万达宝贝王"]
[null,null,null,"冰场","0909"]
[null,null,null,"客房","0910"]
[null,null,null,"游泳馆","0911"]
[null,null,null,"会议室","0912"]
[null,null,null,"中餐厅","0913"]
[null,null,null,"西餐厅","0914"]
[null,null,null,"日餐厅","0915"]
[null,null,null,"咖啡厅","0916"]
[null,null,null,"健身房","0917"]
[null,null,null,"洗衣房","0918"]
[null,null,null,"多功能厅","0919"]
[null,null,null,"医疗","0920"]
[null,null,null,"普通门诊","0921"]
[null,null,null,"发热门诊","0922"]
[null,null,null,"传染门诊","0923"]
[null,null,null,"急诊","0924"]
[null,null,null,"病房","0925"]
[null,null,null,"手术室","0926"]
[null,null,null,"内科诊室","0927"]
[null,null,null,"外科诊室","0928"]
[null,null,null,"儿科诊室","0929"]
[null,null,null,"妇科诊室","0930"]
[null,null,null,"男科诊室","0931"]
[null,null,null,"放射科诊室","0932"]
[null,null,null,"皮肤科诊室","0933"]
[null,null,null,"其他诊室","0934"]
[null,null,null,"化验室","0935"]
[null,null,null,"实验室","0936"]
[null,null,null,"血库","0937"]
[null,null,null,"学校","0938"]
[null,null,null,"实验楼","0939"]
[null,null,null,"体育馆","0940"]
[null,null,null,"图书馆","0941"]
[null,null,null,"展览馆","0942"]
[null,null,null,"音乐厅","0943"]
[null,null,null,"多功能馆","0944"]
[null,null,null,"洗浴中心","0945"]
[null,null,null,"SPA按摩","0946"]
[null,null,null,"棋牌室","0947"]
[null,null,null,"网吧","0948"]
[null,null,null,"美体美甲","0949"]
[null,null,null,"美发","0950"]
[null,null,null,"其他文娱区","0951"]
[null,null,null,"标准客房","0952"]
[null,null,null,"高档客房","0953"]
[null,null,null,"总统套房","0954"]
[null,null,null,"其他类型客房","0955"]
[null,null,null,"挂号区","0956"]
[null,null,null,"生殖医学中心","0957"]
[null,null,null,"核磁共振检查室","0958"]
[null,null,null,"核医学科","0959"]
[null,null,null,"介入治疗","0960"]
[null,null,null,"病理科","0961"]
[null,null,null,"内窥镜","0962"]
[null,null,null,"太平间","0963"]
[null,null,null,"其他医疗区","0964"]
[null,null,null,"其他学校区","0965"]
[null,null,null,"洗衣房","0966"]
[null,null,null,"其他功能区","0967"]

{"sheet":"A1","index":2,"n_rows":11,"n_cols":11,"rows_kept":11,"cut":false,"hidden":false,"merged":[[3,1,10,1],[3,2,10,2],[1,5,1,6],[1,7,1,8],[1,9,1,10],[1,3,1,4],[1,1,1,2]]}
[]
[null,"通用面积体系",null,"一级（固定）",null,"二级（固定）",null,"三级（固定）",null,"四级（可变）"]
[null,"名称","编码","名称","编码","名称","编码","名称","编码","名称","编码"]
[null,"商业综合体面积树","A1","总建筑面积","00"]
[{"$nulls":5},"空调面积","01"]
[{"$nulls":7},"公区面积","0101"]
[{"$nulls":7},"租户面积","0102"]
[{"$nulls":9},"商业租户总面积","010201"]
[{"$nulls":9},"写字楼租户总面积","010202"]
[{"$nulls":5},"停车场面积","02"]
[{"$nulls":5},"设备机房面积","03"]

{"sheet":"A2","index":3,"n_rows":11,"n_cols":11,"rows_kept":11,"cut":false,"hidden":false,"merged":[[3,1,10,1],[3,2,10,2],[1,9,1,10],[1,1,1,2],[1,3,1,4],[1,5,1,6],[1,7,1,8]]}
[]
[null,"通用面积体系",null,"一级（固定）",null,"二级（固定）",null,"三级（固定）",null,"四级（可变）"]
[null,"名称","编码","名称","编码","名称","编码","名称","编码","名称","编码"]
[null,"办公面积树","A2","总建筑面积","00"]
[{"$nulls":5},"空调面积","01"]
[{"$nulls":7},"公区面积","0101"]
[{"$nulls":7},"租户面积","0102"]
[{"$nulls":9},"商业租户总面积","010201"]
[{"$nulls":9},"写字楼租户总面积","010202"]
[{"$nulls":5},"停车场面积","02"]
[{"$nulls":5},"设备机房面积","03"]

{"sheet":"A3","index":4,"n_rows":11,"n_cols":11,"rows_kept":11,"cut":false,"hidden":false,"merged":[[3,1,10,1],[3,2,10,2],[1,9,1,10],[1,1,1,2],[1,3,1,4],[1,5,1,6],[1,7,1,8]]}
[]
[null,"通用面积体系",null,"一级（固定）",null,"二级（固定）",null,"三级（固定）",null,"四级（可变）"]
[null,"名称","编码","名称","编码","名称","编码","名称","编码","名称","编码"]
[null,"商场分项树","A3","总建筑面积","00"]
[{"$nulls":5},"空调面积","01"]
[{"$nulls":7},"公区面积","0101"]
[{"$nulls":7},"租户面积","0102"]
[{"$nulls":9},"商业租户总面积","010201"]
[{"$nulls":9},"写字楼租户总面积","010202"]
[{"$nulls":5},"停车场面积","02"]
[{"$nulls":5},"设备机房面积","03"]

{"sheet":"A4","index":5,"n_rows":28,"n_cols":11,"rows_kept":28,"cut":false,"hidden":false,"merged":[[1,7,1,8],[1,9,1,10],[3,1,27,1],[3,2,27,2],[1,1,1,2],[1,3,1,4],[1,5,1,6]]}
[]
[null,"通用面积体系",null,"一级（固定）",null,"二级（固定）",null,"三级（固定）",null,"四级（可变）"]
[null,"名称","编码","名称","编码","名称","编码","名称","编码","名称","编码"]
[null,"宾馆酒店面积树","A4","总建筑面积","00"]
[{"$nulls":5},"空调面积","01"]
[{"$nulls":7},"公区面积","0101"]
[{"$nulls":7},"服务功能区面积","0102"]
[{"$nulls":9},"客房","010201"]
[{"$nulls":9},"游泳馆","010202"]
[{"$nulls":9},"会议室","010203"]
[{"$nulls":9},"餐厅总（包括中餐厅、日餐厅等）","010204"]
[{"$nulls":9},"健身房","010205"]
[{"$nulls":9},"洗衣房","010206"]
[{"$nulls":9},"多功能厅","010207"]
[{"$nulls":9},"影院","010208"]
[{"$nulls":9},"KTV","010209"]
[{"$nulls":9},"洗浴","010210"]
[{"$nulls":9},"SPA按摩","010211"]
[{"$nulls":9},"棋牌室","010212"]
[{"$nulls":9},"网吧","010213"]
[{"$nulls":9},"美体美甲","010214"]
[{"$nulls":9},"美发","010215"]
[{"$nulls":7},"后勤面积","0103"]
[{"$nulls":9},"后勤办公","010301"]
[{"$nulls":9},"员工食堂","010302"]
[{"$nulls":9},"其他","010303"]
[{"$nulls":5},"停车场面积","02"]
[{"$nulls":5},"设备机房面积","03"]

{"sheet":"A5","index":6,"n_rows":32,"n_cols":11,"rows_kept":32,"cut":false,"hidden":false,"merged":[[1,7,1,8],[1,9,1,10],[3,1,31,1],[3,2,31,2],[1,1,1,2],[1,3,1,4],[1,5,1,6]]}
[]
[null,"通用面积体系",null,"一级（固定）",null,"二级（固定）",null,"三级（固定）",null,"四级（可变）"]
[null,"名称","编码","名称","编码","名称","编码","名称","编码","名称","编码"]
[null,"医院面积树","A5","总建筑面积","00"]
[{"$nulls":5},"空调面积","01"]
[{"$nulls":7},"公区面积","0101"]
[{"$nulls":7},"服务功能区面积","0102"]
[{"$nulls":9},"门诊区","010201"]
[{"$nulls":9},"急诊区","010202"]
[{"$nulls":9},"病房区","010203"]
[{"$nulls":9},"传染门诊","010204"]
[{"$nulls":9},"发热门诊","010205"]
[{"$nulls":9},"生殖医学中心","010206"]
[{"$nulls":9},"手术部","010207"]
[{"$nulls":9},"放射科","010208"]
[{"$nulls":9},"核磁共振检查室","010209"]
[{"$nulls":9},"放射治疗科","010210"]
[{"$nulls":9},"核医学科","010211"]
[{"$nulls":9},"介入治疗","010212"]
[{"$nulls":9},"检验科","010213"]
[{"$nulls":9},"病理科","010214"]
[{"$nulls":9},"内窥镜","010215"]
[{"$nulls":9},"血库","010216"]
[{"$nulls":9},"洗衣房","010217"]
[{"$nulls":9},"实验室","010218"]
[{"$nulls":7},"后勤面积","0103"]
[{"$nulls":9},"后勤办公","010301"]
[{"$nulls":9},"员工食堂","010302"]
[{"$nulls":9},"宿舍","010303"]
[{"$nulls":9},"其他","010304"]
[{"$nulls":5},"停车场面积","02"]
[{"$nulls":5},"设备机房面积","03"]

{"sheet":"A6","index":7,"n_rows":18,"n_cols":11,"rows_kept":18,"cut":false,"hidden":false,"merged":[[1,7,1,8],[1,9,1,10],[3,1,17,1],[3,2,17,2],[1,1,1,2],[1,3,1,4],[1,5,1,6]]}
[]
[null,"通用面积体系",null,"一级（固定）",null,"二级（固定）",null,"三级（固定）",null,"四级（可变）"]
[null,"名称","编码","名称","编码","名称","编码","名称","编码","名称","编码"]
[null,"学校面积树","A6","总建筑面积","00"]
[{"$nulls":5},"空调面积","01"]
[{"$nulls":7},"教学楼面积","0101"]
[{"$nulls":7},"服务功能区面积","0102"]
[{"$nulls":9},"实验楼","010201"]
[{"$nulls":9},"体育馆","010202"]
[{"$nulls":9},"图书馆","010203"]
[{"$nulls":9},"展览馆（如校史馆等）","010204"]
[{"$nulls":9},"多功能馆（如音乐厅等）","010205"]
[{"$nulls":7},"后勤面积","0103"]
[{"$nulls":9},"后勤办公","010301"]
[{"$nulls":9},"食堂","010302"]
[{"$nulls":9},"其他","010303"]
[{"$nulls":5},"停车场面积","02"]
[{"$nulls":5},"设备机房面积","03"]

{"sheet":"S0-1","index":8,"n_rows":175,"n_cols":27,"rows_kept":175,"cut":false,"hidden":false,"merged":[]}
[null,"新规则：","1）节点，快捷树状结构，上级节点包含的下级节点全集"]
[null,null,"2）蓝色文字节点，为设备集"]
[]
[]
[]
["标准库（分项）-114个，其中包括33个设备集节点",{"$nulls":18},"快捷树状结构（分项-->设备集）"]
[null,"分项名称","编码","分项名称","编码","分项名称","编码","分项名称","编码","分项名称","编码","分项名称","编码","分项名称","编码","分项面积","分项面积公式","备注",null,{"$f":"L42","v":"制冷站"},{"$f":"M42","v":"10102010101"}]
[1,"建筑总电耗","1",{"$nulls":12},"建筑总面积-停车场面积-设备机房面积","00-06-07",{"$nulls":4},{"$f":"N43","v":"制冷主机"},{"$f":"O43","v":"1010201010101"}]
[2,null,null,"物业自管","101",{"$nulls":10},"建筑总面积-停车场面积-设备机房面积","00-06-07",{"$nulls":4},{"$f":"N44","v":"冷冻泵"},"1010201010102"]
[3,{"$nulls":4},"租户总用电","10101",{"$nulls":8},"租户面积","05",{"$nulls":4},"冷却泵","1010201010103"]
[4,{"$nulls":6},"商业租户","1010101",{"$nulls":6},"自持商业租户面积+外租商业租户面积","0503+0504",{"$nulls":4},"冷却塔","1010201010104"]
[5,{"$nulls":8},"自持商业租户","101010101",{"$nulls":4},"自持商业租户面积","0503"]
[6,{"$nulls":10},"零售","10101010101",null,null,"零售","0901",null,null,{"$f":"L47","v":"热力站"},{"$f":"M47","v":"10102010102"}]
[7,{"$nulls":10},"餐饮","10101010102",null,null,"餐饮","0902",{"$nulls":4},{"$f":"N48","v":"电锅炉"},{"$f":"O48","v":"1010201010201"}]
[8,{"$nulls":10},"影院","10101010103",null,null,"影院","0904",{"$nulls":4},{"$f":"N49","v":"热泵机组"},"1010201010202"]
[9,{"$nulls":12},"影城照明插座","1010101010301","影院","0904",{"$nulls":4},"采暖泵","1010201010203"]
[10,{"$nulls":12},"影城空调","1010101010302","影院","0904"]
[11,{"$nulls":12},"影城其他用电","1010101010303","影院","0904",null,null,{"$f":"J51","v":"空调末端"},{"$f":"K51","v":"101020102"}]
[12,{"$nulls":10},"百货","10101010104",null,null,"百货","0905",{"$nulls":4},{"$f":"L52","v":"空调箱"},{"$f":"M52","v":"10102010201"}]
[13,{"$nulls":10},"超市","10101010105",null,null,"超市","0906",{"$nulls":4},{"$f":"L53","v":"新风机组"},"10102010202"]
[14,{"$nulls":10},"KTV","10101010106",null,null,"超市","0906",{"$nulls":4},"风机盘管/VAV","10102010203"]
[15,{"$nulls":12},"KTV照明插座","1010101010601","超市","0906",{"$nulls":4},"分体空调","10102010204"]
[16,{"$nulls":12},"KTV空调","1010101010602","超市","0906",{"$nulls":4},"多联机","10102010205"]
[17,{"$nulls":12},"KTV其他用电","1010101010603","KTV","0907",{"$nulls":4},"热风幕","10102010206"]
[18,{"$nulls":10},"儿童游艺","10101010107",null,null,"儿童游艺","0908",{"$nulls":4},"洁净空调","10102010207"]
[19,{"$nulls":10},"冰场","10101010108",null,null,"冰场","0909"]
[20,{"$nulls":10},"其他自持商业租户","10101010109",null,null,{"$f":"P12","v":"自持商业租户面积"},{"$f":"Q12","v":"0503"},null,null,{"$f":"H59","v":"公共照明"},{"$f":"I59","v":"1010202"}]
[21,{"$nulls":8},"外租商业租户","101010102",{"$nulls":4},{"$f":"'[1]标准面积库（新）'!D26","v":"外租商业租户面积"},{"$f":"'[1]标准面积库（新）'!E26","v":"0504"},{"$nulls":4},{"$f":"J60","v":"室内照明"},{"$f":"K60","v":"101020201"}]
[22,{"$nulls":10},"步行街小商铺","10101010201",null,null,{"$f":"'[1]标准面积库（新）'!D31","v":"步行街小商铺"},{"$f":"'[1]标准面积库（新）'!E31","v":"0509"},{"$nulls":6},{"$f":"L61","v":"室内普通照明"},{"$f":"M61","v":"10102020101"}]
[23,{"$nulls":10},"非自持主力店","10101010202",null,null,{"$f":"'[1]标准面积库（新）'!D32","v":"非自持主力店"},{"$f":"'[1]标准面积库（新）'!E32","v":"0510"},{"$nulls":6},{"$f":"L62","v":"室内应急照明"},{"$f":"M62","v":"10102020102"}]
[24,{"$nulls":10},"其他外租商业商户","10101010203",null,null,{"$f":"P28","v":"外租商业租户面积"},{"$f":"Q28","v":"0504"},{"$nulls":4},{"$f":"J63","v":"室外照明"},{"$f":"K63","v":"101020202"}]
[25,{"$nulls":6},"写字楼租户","1010102",{"$nulls":6},"自持写字楼租户面积+外租写字楼租户面积","0501+0502",{"$nulls":6},{"$f":"L64","v":"夜景照明"},{"$f":"M64","v":"10102020201"}]
[26,{"$nulls":8},"自持写字楼租户","101010201",{"$nulls":4},{"$f":"'[1]标准面积库（新）'!D23","v":"自持写字楼租户面积"},{"$f":"'[1]标准面积库（新）'!E23","v":"0501"},{"$nulls":8},{"$f":"N65","v":"夜景灯具"},{"$f":"O65","v":"1010202020101"}]
[27,{"$nulls":8},"外租写字楼租户","101010202",{"$nulls":4},{"$f":"'[1]标准面积库（新）'!D24","v":"外租写字楼租户面积"},{"$f":"'[1]标准面积库（新）'!E24","v":"0502"},{"$nulls":8},{"$f":"N66","v":"LED屏幕"},{"$f":"O66","v":"1010202020102"}]
[28,{"$nulls":6},"公寓租户","1010103",{"$nulls":6},"公寓租户面积","0505",{"$nulls":6},{"$f":"L67","v":"景观照明"},{"$f":"M67","v":"10102020202"}]
[29,{"$nulls":6},"住宅租户","1010104",{"$nulls":6},"住宅租户面积","0506"]
[30,{"$nulls":6},"3Q租户","1010105",{"$nulls":6},{"$f":"'[1]标准面积库（新）'!D29","v":"3Q租户面积"},{"$f":"'[1]标准面积库（新）'!E29","v":"0507"},null,null,{"$f":"J87","v":"电梯"},{"$f":"K87","v":"101020304"}]
[31,{"$nulls":6},"其他租户","1010106",{"$nulls":6},{"$f":"'[1]标准面积库（新）'!D30","v":"其他租户面积"},{"$f":"'[1]标准面积库（新）'!E30","v":"0508"},{"$nulls":4},{"$f":"L88","v":"直梯"},{"$f":"M88","v":"10102030401"}]
[32,{"$nulls":4},"公区总用电","10102",{"$nulls":8},"公区面积","04",{"$nulls":6},{"$f":"N89","v":"客梯"},"1010203040101"]
[33,{"$nulls":6},"暖通空调","1010201",{"$nulls":6},"空调面积","01",{"$nulls":6},"货梯","1010203040102"]
[34,{"$nulls":8},"集中冷热站","101020101",{"$nulls":4},"空调面积","01",{"$nulls":6},"消防电梯","1010203040103"]
[35,{"$nulls":10},"制冷站","10102010101",null,null,"空调面积","01",{"$nulls":4},{"$f":"L92","v":"自动扶梯"},{"$f":"M92","v":"10102030402"}]
[36,{"$nulls":12},"制冷主机","1010201010101","空调面积","01"]
[37,{"$nulls":12},"冷冻泵","1010201010102","空调面积","01",null,null,{"$f":"J68","v":"停车场照明"},{"$f":"K68","v":"101020203"}]
[38,{"$nulls":12},"冷却泵","1010201010103","空调面积","01",{"$nulls":4},{"$f":"L69","v":"车位照明"},"10102020301"]
[39,{"$nulls":12},"冷却塔","1010201010104","空调面积","01",{"$nulls":4},"车道照明","10102020302"]
[40,{"$nulls":10},"热力站","10102010102",null,null,"空调面积","01",{"$nulls":4},"停车场应急照明","10102020303"]
[41,{"$nulls":12},"电锅炉","1010201010201","采暖面积","02",null,null,{"$f":"J73","v":"送排风机"},{"$f":"K73","v":"101020301"}]
[42,{"$nulls":12},"热泵机组","1010201010202","采暖面积","02",{"$nulls":4},{"$f":"L74","v":"停车场送排风机"},"10102030101"]
[43,{"$nulls":12},"采暖泵","1010201010203","采暖面积","02",{"$nulls":4},"消防送排风机","10102030102"]
[44,{"$nulls":8},"空调末端","101020102",{"$nulls":4},"空调面积","01",{"$nulls":4},"厨房送排风机","10102030103"]
[45,{"$nulls":10},"空调箱","10102010201",null,null,"空调面积","01",{"$nulls":4},"卫生间送排风机","10102030104"]
[46,{"$nulls":10},"新风机组","10102010202",null,null,"空调面积","01",{"$nulls":4},"其他送排风机","10102030105"]
[47,{"$nulls":10},"风机盘管/VAV","10102010203",null,null,"空调面积","01"]
[48,{"$nulls":10},"分体空调","10102010204",null,null,"空调面积","01",null,null,{"$f":"J79","v":"给排水泵"},{"$f":"K79","v":"101020302"}]
[49,{"$nulls":10},"多联机","10102010205",null,null,"空调面积","01",{"$nulls":4},{"$f":"L80","v":"给水泵/生活水泵"},"10102030201"]
[50,{"$nulls":10},"热风幕","10102010206",null,null,"空调面积","01",{"$nulls":4},"排水泵","10102030202"]
[51,{"$nulls":10},"洁净空调","10102010207",null,null,"空调面积","01",{"$nulls":4},"排污泵","10102030203"]
[52,{"$nulls":6},"公共照明","1010202",{"$nulls":6},"空调面积","01",{"$nulls":4},"补水泵","10102030204"]
[53,{"$nulls":8},"室内照明","101020201",{"$nulls":4},"公区面积","04",{"$nulls":4},"潜水泵","10102030205"]
[54,{"$nulls":10},"室内普通照明","10102020101",null,null,"公区面积","04"]
[55,{"$nulls":10},"室内应急照明","10102020102",null,null,"公区面积","04",null,null,{"$f":"H99","v":"后勤"},{"$f":"I99","v":"1010301"}]
[56,{"$nulls":8},"室外照明","101020202",{"$nulls":4},"公区面积","04",{"$nulls":4},{"$f":"J100","v":"后勤办公"},"101030101"]
[57,{"$nulls":10},"夜景照明","10102020201",null,null,"公区面积","04",{"$nulls":4},"食堂","101030102"]
[58,{"$nulls":12},"夜景灯具","1010202020101","公区面积","04",{"$nulls":4},"宿舍","101030103"]
[59,{"$nulls":12},"LED屏幕","1010202020102","公区面积","04",{"$nulls":4},"其他后勤区","101030104"]
[60,{"$nulls":10},"景观照明","10102020202",null,null,"公区面积","04"]
[61,{"$nulls":8},"停车场照明","101020203",{"$nulls":4},"停车场面积","06",null,null,{"$f":"H164","v":"设备机房"},{"$f":"I164","v":"1010401"}]
[62,{"$nulls":10},"车位照明","10102020301",null,null,"停车场面积","06",{"$nulls":4},{"$f":"J165","v":"强电机房"},"101040101"]
[63,{"$nulls":10},"车道照明","10102020302",null,null,"停车场面积","06",{"$nulls":4},"弱电机房","101040102"]
[64,{"$nulls":10},"停车场应急照明","10102020303",null,null,"停车场面积","06",{"$nulls":4},"消防机房","101040103"]
[65,{"$nulls":6},"动力设备","1010203",{"$nulls":6},"建筑总面积-停车场面积-设备机房面积","00-06-07",{"$nulls":4},"综合机房","101040104"]
[66,{"$nulls":8},"送排风机","101020301",{"$nulls":4},"建筑总面积-停车场面积-设备机房面积","00-06-07",{"$nulls":4},"信息机房","101040105"]
[67,{"$nulls":10},"停车场送排风机","10102030101",null,null,"建筑总面积-停车场面积-设备机房面积","00-06-07",{"$nulls":4},"变配电室","101040106"]
[68,{"$nulls":10},"消防送排风机","10102030102",null,null,"建筑总面积-停车场面积-设备机房面积","00-06-07",{"$nulls":4},"其他设备机房","101040107"]
[69,{"$nulls":10},"厨房送排风机","10102030103",null,null,"建筑总面积-停车场面积-设备机房面积","00-06-07"]
[70,{"$nulls":10},"卫生间送排风机","10102030104",null,null,"建筑总面积-停车场面积-设备机房面积","00-06-07"]
[71,{"$nulls":10},"其他送排风机","10102030105",null,null,"建筑总面积-停车场面积-设备机房面积","00-06-07"]
[72,{"$nulls":8},"给排水泵","101020302",{"$nulls":4},"建筑总面积-停车场面积-设备机房面积","00-06-07"]
[73,{"$nulls":10},"给水泵/生活水泵","10102030201",null,null,"建筑总面积-停车场面积-设备机房面积","00-06-07"]
[74,{"$nulls":10},"排水泵","10102030202",null,null,"建筑总面积-停车场面积-设备机房面积","00-06-07"]
[75,{"$nulls":10},"排污泵","10102030203",null,null,"建筑总面积-停车场面积-设备机房面积","00-06-07"]
[76,{"$nulls":10},"补水泵","10102030204",null,null,"建筑总面积-停车场面积-设备机房面积","00-06-07"]
[77,{"$nulls":10},"潜水泵","10102030205",null,null,"建筑总面积-停车场面积-设备机房面积","00-06-07"]
[78,{"$nulls":10},"中水泵","10102030206",null,null,"建筑总面积-停车场面积-设备机房面积","00-06-07"]
[79,{"$nulls":8},"消防水泵","101020303",{"$nulls":4},"建筑总面积-停车场面积-设备机房面积","00-06-07"]
[80,{"$nulls":8},"电梯","101020304",{"$nulls":4},"建筑总面积-停车场面积-设备机房面积","00-06-07"]
[81,{"$nulls":10},"直梯","10102030401",null,null,"建筑总面积-停车场面积-设备机房面积","00-06-07"]
[82,{"$nulls":12},"客梯","1010203040101","建筑总面积-停车场面积-设备机房面积","00-06-07"]
[83,{"$nulls":12},"货梯","1010203040102","建筑总面积-停车场面积-设备机房面积","00-06-07"]
[84,{"$nulls":12},"消防电梯","1010203040103","建筑总面积-停车场面积-设备机房面积","00-06-07"]
[85,{"$nulls":10},"自动扶梯","10102030402",null,null,"建筑总面积-停车场面积-设备机房面积","00-06-07"]
[86,{"$nulls":8},"厨房动力设备","101020305",{"$nulls":4},"建筑总面积-停车场面积-设备机房面积","00-06-07"]
[87,{"$nulls":8},"电伴热","101020306",{"$nulls":4},"建筑总面积-停车场面积-设备机房面积","00-06-07"]
[88,{"$nulls":10},"地库电伴热","10102030601",null,null,"建筑总面积-停车场面积-设备机房面积","00-06-07"]
[89,{"$nulls":10},"屋面电伴热","10102030602",null,null,"建筑总面积-停车场面积-设备机房面积","00-06-07"]
[90,{"$nulls":10},"其他电伴热","10102030603",null,null,"建筑总面积-停车场面积-设备机房面积","00-06-07"]
[91,{"$nulls":4},"特殊功能区总用电","10103",{"$nulls":8},"后勤面积+特殊功能区面积","08+09"]
[92,{"$nulls":6},"后勤","1010301",{"$nulls":6},"后勤面积","08"]
[93,{"$nulls":8},"后勤办公","101030101",{"$nulls":4},"后勤办公","0801"]
[94,{"$nulls":8},"食堂","101030102",{"$nulls":4},"食堂","0802"]
[95,{"$nulls":8},"宿舍","101030103",{"$nulls":4},"宿舍","0803"]
[96,{"$nulls":8},"其他后勤区","101030104",{"$nulls":4},"其他后勤区","0804"]
[97,{"$nulls":6},"客房","1010302",{"$nulls":6},{"$f":"'[1]标准面积库（新）'!$D$63","v":"客房"},{"$f":"'[1]标准面积库（新）'!$E$63","v":"0910"}]
[98,{"$nulls":8},"标准客房","101030201",{"$nulls":4},{"$f":"'[1]标准面积库（新）'!D105","v":"标准客房"},{"$f":"'[1]标准面积库（新）'!E105","v":"0952"}]
[99,{"$nulls":8},"高档客房","101030202",{"$nulls":4},{"$f":"'[1]标准面积库（新）'!D106","v":"高档客房"},{"$f":"'[1]标准面积库（新）'!E106","v":"0953"}]
[100,{"$nulls":8},"总统套房","101030203",{"$nulls":4},{"$f":"'[1]标准面积库（新）'!D107","v":"总统套房"},{"$f":"'[1]标准面积库（新）'!E107","v":"0954"}]
[101,{"$nulls":8},"其他类型客房","101030204",{"$nulls":4},{"$f":"'[1]标准面积库（新）'!D108","v":"其他类型客房"},{"$f":"'[1]标准面积库（新）'!E108","v":"0955"}]
[102,{"$nulls":6},"餐饮厨房","1010303",{"$nulls":6},"餐饮","0902"]
[103,{"$nulls":8},"中餐厅","101030301",{"$nulls":4},"中餐厅","0913"]
[104,{"$nulls":8},"西餐厅","101030302",{"$nulls":4},"西餐厅","0914"]
[105,{"$nulls":8},"日餐厅","101030303",{"$nulls":4},"日餐厅","0915"]
[106,{"$nulls":8},"咖啡厅","101030304",{"$nulls":4},"咖啡厅","0916"]
[107,{"$nulls":8},"其他餐饮厨房区","101030305",{"$nulls":4},{"$f":"P109","v":"餐饮"},{"$f":"Q109","v":"0902"}]
[108,{"$nulls":6},"文娱","1010304",{"$nulls":6},"文娱","0903"]
[109,{"$nulls":8},"游泳馆","101030401",{"$nulls":4},"游泳馆","0911"]
[110,{"$nulls":8},"会议室","101030402",{"$nulls":4},"会议室","0912"]
[111,{"$nulls":8},"健身房","101030403",{"$nulls":4},"健身房","0917"]
[112,{"$nulls":8},"多功能厅","101030404",{"$nulls":4},"多功能厅","0919"]
[113,{"$nulls":8},"洗浴中心","101030405",{"$nulls":4},{"$f":"'[1]标准面积库（新）'!D98","v":"洗浴中心"},{"$f":"'[1]标准面积库（新）'!E98","v":"0945"}]
[114,{"$nulls":8},"SPA按摩","101030406",{"$nulls":4},{"$f":"'[1]标准面积库（新）'!D99","v":"SPA按摩"},{"$f":"'[1]标准面积库（新）'!E99","v":"0946"}]
[115,{"$nulls":8},"棋牌室","101030407",{"$nulls":4},{"$f":"'[1]标准面积库（新）'!D100","v":"棋牌室"},{"$f":"'[1]标准面积库（新）'!E100","v":"0947"}]
[116,{"$nulls":8},"网吧","101030408",{"$nulls":4},{"$f":"'[1]标准面积库（新）'!D101","v":"网吧"},{"$f":"'[1]标准面积库（新）'!E101","v":"0948"}]
[117,{"$nulls":8},"美体美甲","101030409",{"$nulls":4},{"$f":"'[1]标准面积库（新）'!D102","v":"美体美甲"},{"$f":"'[1]标准面积库（新）'!E102","v":"0949"}]
[118,{"$nulls":8},"美发","101030410",{"$nulls":4},{"$f":"'[1]标准面积库（新）'!D103","v":"美发"},{"$f":"'[1]标准面积库（新）'!E103","v":"0950"}]
[119,{"$nulls":8},"其他文娱区","101030411",{"$nulls":4},{"$f":"'[1]标准面积库（新）'!D104","v":"其他文娱区"},{"$f":"'[1]标准面积库（新）'!E104","v":"0951"}]
[120,{"$nulls":6},"医疗","1010305",{"$nulls":6},"医疗","0920"]
[121,{"$nulls":8},"普通门诊","101030501",{"$nulls":4},"普通门诊","0921"]
[122,{"$nulls":8},"发热门诊","101030502",{"$nulls":4},"发热门诊","0922"]
[123,{"$nulls":8},"传染门诊","101030503",{"$nulls":4},"传染门诊","0923"]
[124,{"$nulls":8},"急诊","101030504",{"$nulls":4},"急诊","0924"]
[125,{"$nulls":8},"病房","101030505",{"$nulls":4},"病房","0925"]
[126,{"$nulls":8},"手术室","101030506",{"$nulls":4},"手术室","0926"]
[127,{"$nulls":8},"内科诊室","101030507",{"$nulls":4},"内科诊室","0927"]
[128,{"$nulls":8},"外科诊室","101030508",{"$nulls":4},"外科诊室","0928"]
[129,{"$nulls":8},"儿科诊室","101030509",{"$nulls":4},"儿科诊室","0929"]
[130,{"$nulls":8},"妇科诊室","101030510",{"$nulls":4},"妇科诊室","0930"]
[131,{"$nulls":8},"男科诊室","101030511",{"$nulls":4},"男科诊室","0931"]
[132,{"$nulls":8},"放射科诊室","101030512",{"$nulls":4},"放射科诊室","0932"]
[133,{"$nulls":8},"皮肤科诊室","101030513",{"$nulls":4},"皮肤科诊室","0933"]
[134,{"$nulls":8},"其他诊室","101030514",{"$nulls":4},"其他诊室","0934"]
[135,{"$nulls":8},"化验室","101030515",{"$nulls":4},"化验室","0935"]
[136,{"$nulls":8},"实验室","101030516",{"$nulls":4},"实验室","0936"]
[137,{"$nulls":8},"血库","101030517",{"$nulls":4},"血库","0937"]
[138,{"$nulls":8},"挂号区","101030518",{"$nulls":4},{"$f":"'[1]标准面积库（新）'!D109","v":"挂号区"},{"$f":"'[1]标准面积库（新）'!E109","v":"0956"}]
[139,{"$nulls":8},"生殖医学中心","101030519",{"$nulls":4},{"$f":"'[1]标准面积库（新）'!D110","v":"生殖医学中心"},{"$f":"'[1]标准面积库（新）'!E110","v":"0957"}]
[140,{"$nulls":8},"核磁共振检查室","101030520",{"$nulls":4},{"$f":"'[1]标准面积库（新）'!D111","v":"核磁共振检查室"},{"$f":"'[1]标准面积库（新）'!E111","v":"0958"}]
[141,{"$nulls":8},"核医学科","101030521",{"$nulls":4},{"$f":"'[1]标准面积库（新）'!D112","v":"核医学科"},{"$f":"'[1]标准面积库（新）'!E112","v":"0959"}]
[142,{"$nulls":8},"介入治疗","101030522",{"$nulls":4},{"$f":"'[1]标准面积库（新）'!D113","v":"介入治疗"},{"$f":"'[1]标准面积库（新）'!E113","v":"0960"}]
[143,{"$nulls":8},"病理科","101030523",{"$nulls":4},{"$f":"'[1]标准面积库（新）'!D114","v":"病理科"},{"$f":"'[1]标准面积库（新）'!E114","v":"0961"}]
[144,{"$nulls":8},"内窥镜","101030524",{"$nulls":4},{"$f":"'[1]标准面积库（新）'!D115","v":"内窥镜"},{"$f":"'[1]标准面积库（新）'!E115","v":"0962"}]
[145,{"$nulls":8},"太平间","101030525",{"$nulls":4},{"$f":"'[1]标准面积库（新）'!D116","v":"太平间"},{"$f":"'[1]标准面积库（新）'!E116","v":"0963"}]
[146,{"$nulls":8},"其他医疗区","101030526",{"$nulls":4},{"$f":"'[1]标准面积库（新）'!D117","v":"其他医疗区"},{"$f":"'[1]标准面积库（新）'!E117","v":"0964"}]
[147,{"$nulls":6},"学校","1010306",{"$nulls":6},"学校","0938"]
[148,{"$nulls":8},"实验楼","101030601",{"$nulls":4},"实验楼","0939"]
[149,{"$nulls":8},"体育馆","101030602",{"$nulls":4},"体育馆","0940"]
[150,{"$nulls":8},"图书馆","101030603",{"$nulls":4},"图书馆","0941"]
[151,{"$nulls":8},"展览馆","101030604",{"$nulls":4},"展览馆","0942"]
[152,{"$nulls":8},"音乐厅","101030605",{"$nulls":4},"音乐厅","0943"]
[153,{"$nulls":8},"多功能馆","101030606",{"$nulls":4},"多功能馆","0944"]
[154,{"$nulls":8},"其他学校区","101030607",{"$nulls":4},{"$f":"'[1]标准面积库（新）'!D118","v":"其他学校区"},{"$f":"'[1]标准面积库（新）'!E118","v":"0965"}]
[155,{"$nulls":6},"洗衣房","1010307",{"$nulls":6},{"$f":"'[1]标准面积库（新）'!D119","v":"洗衣房"},{"$f":"'[1]标准面积库（新）'!E119","v":"0966"}]
[156,{"$nulls":4},"特殊设备总用电","10104",{"$nulls":8},"建筑总面积-停车场面积-设备机房面积","00-06-07"]
[157,{"$nulls":6},"设备机房","1010401",{"$nulls":6},"设备机房面积","07"]
[158,{"$nulls":8},"强电机房","101040101",{"$nulls":4},"强电机房","0704"]
[159,{"$nulls":8},"弱电机房","101040102",{"$nulls":4},"弱电机房","0705"]
[160,{"$nulls":8},"消防机房","101040103",{"$nulls":4},"消防机房","0706"]
[161,{"$nulls":8},"综合机房","101040104",{"$nulls":4},"综合机房","0707"]
[162,{"$nulls":8},"信息机房","101040105",{"$nulls":4},"信息机房","0708"]
[163,{"$nulls":8},"变配电室","101040106",{"$nulls":4},{"$f":"'[1]标准面积库（新）'!D46","v":"变配电室"},{"$f":"'[1]标准面积库（新）'!E46","v":"0709"}]
[164,{"$nulls":8},"其他设备机房","101040107",{"$nulls":4},{"$f":"'[1]标准面积库（新）'!D47","v":"其他机房"},{"$f":"'[1]标准面积库（新）'!E47","v":"0710"}]
[165,{"$nulls":6},"特殊设备","1010402",{"$nulls":6},"建筑总面积-停车场面积-设备机房面积","00-06-07"]
[166,{"$nulls":4},"其他用电","10105",{"$nulls":8},"建筑总面积-停车场面积-设备机房面积","00-06-07"]
[167,null,null,"非物业自管",102,{"$nulls":10},"建筑总面积-停车场面积-设备机房面积","00-06-07"]
[168,null,null,"变压器损失",103,{"$nulls":10},"建筑总面积-停车场面积-设备机房面积","00-06-07"]

{"sheet":"S0-2~F","index":9,"n_rows":94,"n_cols":9,"rows_kept":94,"cut":false,"hidden":false,"merged":[]}
[]
[]
[2,"冷标准库（分项）-1个"]
[null,null,"分项名称","编码","分项名称","编码","分项面积","分项面积公式","备注"]
[null,1,"总供冷量","2",null,null,"空调面积","[01]"]
[]
[]
[3,"热标准库（分项）-4个"]
[null,null,"分项名称","编码","分项名称","编码","分项面积","分项面积公式","备注"]
[null,1,"总供热量",3,null,null,"采暖面积","[02]"]
[null,2,null,null,"采暖耗热量",301,"采暖面积","[02]"]
[null,3,null,null,"生活热水耗热量",302,"建筑总面积","[00]"]
[null,4,null,null,"其他功能区耗热量",303,"建筑总面积","[00]"]
[]
[]
[4,"自来水标准库（分项）-7个"]
[null,null,"分项名称","编码","分项名称","编码","分项面积","分项面积公式","备注"]
[null,1,"总用水量","4",null,null,"建筑总面积","[00]"]
[null,2,null,null,"空调采暖用水",401,"空调面积","[01]"]
[null,3,null,null,"生活热水用水",402,"建筑总面积","[00]"]
[null,4,null,null,"生活冷水（上下水系统）用水",403,"建筑总面积","[00]"]
[null,5,null,null,"生活中水用水",404,"建筑总面积","[00]"]
[null,6,null,null,"景观喷灌用水",405,"建筑总面积","[00]"]
[null,7,null,null,"其他功能区用水",406,"建筑总面积","[00]"]
[]
[]
[5,"燃气标准库（分项）-4个"]
[null,null,"分项名称","编码","分项名称","编码","分项面积","分项面积公式","备注"]
[null,1,"总燃气耗量",5,null,null,"建筑总面积","[00]"]
[null,2,null,null,"空调采暖用气",501,"空调面积","[01]"]
[null,3,null,null,"生活热水用气",502,"建筑总面积","[00]"]
[null,4,null,null,"其他功能区用气",503,"建筑总面积","[00]"]
[]
[]
[6,"燃油标准库（分项）-4个"]
[null,null,"分项名称","编码","分项名称","编码","分项面积","分项面积公式","备注"]
[null,1,"总燃油耗量",6,null,null,"建筑总面积","[00]"]
[null,2,null,null,"锅炉耗油",601,"空调面积","[01]"]
[null,3,null,null,"发动机耗油",602,"建筑总面积","[00]"]
[null,4,null,null,"其他耗油分项",603,"建筑总面积","[00]"]
[]
[]
[7,"蒸汽标准库（分项）-4个"]
[null,null,"分项名称","编码","分项名称","编码","分项面积","分项面积公式","备注"]
[null,1,"总蒸汽量",7,null,null,"建筑总面积","[00]"]
[null,2,null,null,"空调采暖用蒸汽",701,"空调面积","[01]"]
[null,3,null,null,"生活热水用蒸汽",702,"建筑总面积","[00]"]
[null,4,null,null,"其他功能区用蒸汽",703,"建筑总面积","[00]"]
[]
[]
[8,"热水标准库（分项）-4个"]
[null,null,"分项名称","编码","分项名称","编码","分项面积","分项面积公式","备注"]
[null,1,"总热水量",8,null,null,"建筑总面积","[00]"]
[null,2,null,null,"空调采暖热水",801,"空调面积","[01]"]
[null,3,null,null,"生活热水",802,"建筑总面积","[00]"]
[null,4,null,null,"其他功能区热水",803,"建筑总面积","[00]"]
[]
[]
[9,"汽油标准库（分项）-4个"]
[null,null,"分项名称","编码","分项名称","编码","分项面积","分项面积公式","备注"]
[null,1,"总汽油耗量",9,null,null,"建筑总面积","[00]"]
[null,2,null,null,"空调采暖用汽油",901,"空调面积","[01]"]
[null,3,null,null,"发电用汽油",902,"建筑总面积","[00]"]
[null,4,null,null,"其他用汽油",903,"建筑总面积","[00]"]
[]
[]
[10,"原煤标准库（分项）-1个"]
[null,null,"分项名称","编码","分项名称","编码","分项面积","分项面积公式","备注"]
[null,1,"总原煤量",10,null,null,"建筑总面积","[00]"]
[]
[]
[11,"焦炭标准库（分项）-1个"]
[null,null,"分项名称","编码","分项名称","编码","分项面积","分项面积公式","备注"]
[null,1,"总焦炭量",11,null,null,"建筑总面积","[00]"]
[]
[]
[12,"标煤标准库（分项）-1个"]
[null,null,"分项名称","编码","分项名称","编码","分项面积","分项面积公式","备注"]
[null,1,"总标煤量",12,null,null,"建筑总面积","[00]","单位：kgce"]
[]
[]
[13,"CO2排放标准库（分项）-1个"]
[null,null,"分项名称","编码","分项名称","编码","分项面积","分项面积公式","备注"]
[null,1,"总CO2排放量",13,null,null,"建筑总面积","[00]","单位：kgCO2"]
[]
[]
[14,"森林面积标准库（分项）-1个"]
[null,null,"分项名称","编码","分项名称","编码","分项面积","分项面积公式","备注"]
[null,1,"总森林面积",14,null,null,"建筑总面积","[00]","单位：公顷"]
[]
[]
[15,"能源费用标准库（分项）-1个"]
[null,null,"分项名称","编码","分项名称","编码","分项面积","分项面积公式","备注"]
[null,1,"总能源费用",15,null,null,"建筑总面积","[00]","单位：元"]

{"sheet":"S1","index":10,"n_rows":66,"n_cols":16,"rows_kept":66,"cut":false,"hidden":false,"merged":[[3,1,65,1],[3,2,65,2],[1,14,1,15],[1,1,1,2],[1,3,1,4],[1,5,1,6],[1,7,1,8],[1,9,1,10],[1,11,1,12]]}
[]
[null,"通用面积体系",null,"一级",null,"二级",null,"三级",null,"四级",null,"五级",null,null,"指标计算用面积(商业综合体面积树A1）"]
[null,"名称","编码","名称","编码","名称","编码","名称","编码","名称","编码","名称","编码",null,"名称","编码"]
[null,"商业综合体分项树","S1","总电耗",1,{"$nulls":9},"总建筑面积-停车场-设备机房","00-02-03"]
[{"$nulls":5},"服务功能区用电","101",{"$nulls":7},"服务功能区面积和","0102"]
[{"$nulls":7},"商业租户","10101",{"$nulls":5},"商业租户面积","010201"]
[{"$nulls":7},"写字楼租户","10102",{"$nulls":5},"写字楼租户","010202"]
[{"$nulls":5},"公区用电","102",{"$nulls":7},"公区面积","0101"]
[{"$nulls":7},"暖通空调","10201",{"$nulls":5},"空调面积","01"]
[{"$nulls":9},"集中冷热站","1020101",null,null,null,"空调面积","01"]
[{"$nulls":11},"制冷主机","102010101",null,"空调面积","01"]
[{"$nulls":11},"制热主机","102010102",null,"空调面积","01"]
[{"$nulls":11},"冷冻泵","102010103",null,"空调面积","01"]
[{"$nulls":11},"冷却泵","102010104",null,"空调面积","01"]
[{"$nulls":11},"冷却塔","102010105",null,"空调面积","01"]
[{"$nulls":11},"采暖泵","102010106",null,"空调面积","01"]
[{"$nulls":9},"空调末端","1020102",null,null,null,"空调面积","01"]
[{"$nulls":11},"空调箱","102010201",null,"空调面积","01"]
[{"$nulls":11},"新风机","102010202",null,"空调面积","01"]
[{"$nulls":11},"风盘，VAV，分体等","102010203",null,"空调面积","01"]
[{"$nulls":7},"公共照明","10202",{"$nulls":5},"总建筑面积-停车场-设备机房","00-02-03"]
[{"$nulls":9},"室内照明","1020201",null,null,null,"总建筑面积-停车场-设备机房","00-02-03"]
[{"$nulls":11},"室内普通照明","102020101",null,"总建筑面积-停车场-设备机房","00-02-03"]
[{"$nulls":11},"室内应急照明","102020102",null,"总建筑面积-停车场-设备机房","00-02-03"]
[{"$nulls":11},"停车场照明","102020103",null,"停车场面积","02"]
[{"$nulls":9},"室外照明","1020202",null,null,null,"总建筑面积-停车场-设备机房","00-02-03"]
[{"$nulls":11},"夜景照明","102020201",null,"总建筑面积-停车场-设备机房","00-02-03"]
[{"$nulls":11},"景观照明","102020202",null,"总建筑面积-停车场-设备机房","00-02-03"]
[{"$nulls":7},"动力设备","10203",{"$nulls":5},"总建筑面积-停车场-设备机房","00-02-03"]
[{"$nulls":9},"送排风机","1020301",null,null,null,"总建筑面积-停车场-设备机房","00-02-03"]
[{"$nulls":11},"停车场风机","102030101",null,"总建筑面积-停车场-设备机房","00-02-03"]
[{"$nulls":11},"消防风机","102030102",null,"总建筑面积-停车场-设备机房","00-02-03"]
[{"$nulls":11},"厨房风机","102030103",null,"总建筑面积-停车场-设备机房","00-02-03"]
[{"$nulls":11},"卫生间风机","102030104",null,"总建筑面积-停车场-设备机房","00-02-03"]
[{"$nulls":9},"给排水泵","1020302",null,null,null,"停车场面积","02"]
[{"$nulls":9},"电梯","1020303",null,null,null,"总建筑面积-停车场-设备机房","00-02-03"]
[{"$nulls":11},"直梯","102030301",null,"总建筑面积-停车场-设备机房","00-02-03"]
[{"$nulls":11},"自动扶梯","102030302",null,"总建筑面积-停车场-设备机房","00-02-03"]
[{"$nulls":5},"特殊用电","103",{"$nulls":7},"总建筑面积-停车场-设备机房","00-02-03"]
[{"$nulls":7},"信息机房","10301",{"$nulls":5},"总建筑面积-停车场-设备机房","00-02-03"]
[{"$nulls":7},"变损","10302",{"$nulls":5},"总建筑面积-停车场-设备机房","00-02-03"]
[{"$nulls":7},"其他","10303",{"$nulls":5},"总建筑面积-停车场-设备机房","00-02-03"]
[null,null,null,"总供冷量",2,{"$nulls":9},"空调面积","01"]
[null,null,null,"总供热量",3,{"$nulls":9},"总建筑面积-停车场-设备机房","00-02-03"]
[{"$nulls":5},"采暖耗热量","301",{"$nulls":7},"空调面积","01"]
[{"$nulls":5},"生活热水耗热量","302",{"$nulls":7},"总建筑面积-停车场-设备机房","00-02-03"]
[{"$nulls":5},"其他功能区耗热量","303",{"$nulls":7},"总建筑面积-停车场-设备机房","00-02-03"]
[null,null,null,"总水耗",4,{"$nulls":9},"总建筑面积-停车场-设备机房","00-02-03"]
[{"$nulls":5},"空调采暖用水","401",{"$nulls":7},"空调面积","1"]
[{"$nulls":5},"生活热水用水","402",{"$nulls":7},"总建筑面积-停车场-设备机房","00-02-03"]
[{"$nulls":5},"生活冷水（上下水系统）用水","403",{"$nulls":7},"总建筑面积-停车场-设备机房","00-02-03"]
[{"$nulls":5},"生活中水用水","404",{"$nulls":7},"总建筑面积-停车场-设备机房","00-02-03"]
[{"$nulls":5},"景观喷灌用水","405",{"$nulls":7},"总建筑面积-停车场-设备机房","00-02-03"]
[{"$nulls":5},"其他功能区用水","406",{"$nulls":7},"总建筑面积-停车场-设备机房","00-02-03"]
[null,null,null,"总燃气耗量",5,{"$nulls":9},"总建筑面积-停车场-设备机房","00-02-03"]
[{"$nulls":5},"空调采暖用气","501",{"$nulls":7},"空调面积","01"]
[{"$nulls":5},"生活热水用气","502",{"$nulls":7},"总建筑面积-停车场-设备机房","00-02-03"]
[{"$nulls":5},"其他功能区用气","503",{"$nulls":7},"总建筑面积-停车场-设备机房","00-02-03"]
[null,null,null,"总燃油耗量",6,{"$nulls":9},"总建筑面积-停车场-设备机房","00-02-03"]
[{"$nulls":5},"锅炉耗油","601",{"$nulls":7},"总建筑面积-停车场-设备机房","00-02-03"]
[{"$nulls":5},"发动机耗油","602",{"$nulls":7},"总建筑面积-停车场-设备机房","00-02-03"]
[{"$nulls":5},"其他耗油分项","603",{"$nulls":7},"总建筑面积-停车场-设备机房","00-02-03"]
[null,null,null,"总蒸汽量",7,{"$nulls":9},"总建筑面积-停车场-设备机房","00-02-03"]
[{"$nulls":5},"空调采暖用蒸汽","701",{"$nulls":7},"空调面积","01"]
[{"$nulls":5},"生活热水用蒸汽","702",{"$nulls":7},"总建筑面积-停车场-设备机房","00-02-03"]
[{"$nulls":5},"其他功能区用蒸汽","703",{"$nulls":7},"总建筑面积-停车场-设备机房","00-02-03"]

{"sheet":"S2","index":11,"n_rows":66,"n_cols":16,"rows_kept":66,"cut":false,"hidden":false,"merged":[[1,14,1,15],[3,1,65,1],[3,2,65,2],[1,1,1,2],[1,3,1,4],[1,5,1,6],[1,7,1,8],[1,9,1,10],[1,11,1,12]]}
[]
[null,"通用面积体系",null,"一级",null,"二级",null,"三级",null,"四级",null,"五级",null,null,"指标计算用面积（办公面积树A2）"]
[null,"名称","编码","名称","编码","名称","编码","名称","编码","名称","编码","名称","编码",null,"名称","编码"]
[null,"办公分项树","S2","总电耗",1,{"$nulls":9},"总建筑面积-停车场-设备机房","00-02-03"]
[{"$nulls":5},"服务功能区用电","101",{"$nulls":7},"服务功能区面积和","0102"]
[{"$nulls":7},"商业租户","10101",{"$nulls":5},"商业租户面积","010201"]
[{"$nulls":7},"写字楼租户","10102",{"$nulls":5},"写字楼租户","010202"]
[{"$nulls":5},"公区用电","102",{"$nulls":7},"公区面积","0101"]
[{"$nulls":7},"暖通空调","10201",{"$nulls":5},"空调面积","01"]
[{"$nulls":9},"集中冷热站","1020101",null,null,null,"空调面积","01"]
[{"$nulls":11},"制冷主机","102010101",null,"空调面积","01"]
[{"$nulls":11},"制热主机","102010102",null,"空调面积","01"]
[{"$nulls":11},"冷冻泵","102010103",null,"空调面积","01"]
[{"$nulls":11},"冷却泵","102010104",null,"空调面积","01"]
[{"$nulls":11},"冷却塔","102010105",null,"空调面积","01"]
[{"$nulls":11},"采暖泵","102010106",null,"空调面积","01"]
[{"$nulls":9},"空调末端","1020102",null,null,null,"空调面积","01"]
[{"$nulls":11},"空调箱","102010201",null,"空调面积","01"]
[{"$nulls":11},"新风机","102010202",null,"空调面积","01"]
[{"$nulls":11},"风盘，VAV，分体等","102010203",null,"空调面积","01"]
[{"$nulls":7},"公共照明","10202",{"$nulls":5},"总建筑面积-停车场-设备机房","00-02-03"]
[{"$nulls":9},"室内照明","1020201",null,null,null,"总建筑面积-停车场-设备机房","00-02-03"]
[{"$nulls":11},"室内普通照明","102020101",null,"总建筑面积-停车场-设备机房","00-02-03"]
[{"$nulls":11},"室内应急照明","102020102",null,"总建筑面积-停车场-设备机房","00-02-03"]
[{"$nulls":11},"停车场照明","102020103",null,"停车场面积","02"]
[{"$nulls":9},"室外照明","1020202",null,null,null,"总建筑面积-停车场-设备机房","00-02-03"]
[{"$nulls":11},"夜景照明","102020201",null,"总建筑面积-停车场-设备机房","00-02-03"]
[{"$nulls":11},"景观照明","102020202",null,"总建筑面积-停车场-设备机房","00-02-03"]
[{"$nulls":7},"动力设备","10203",{"$nulls":5},"总建筑面积-停车场-设备机房","00-02-03"]
[{"$nulls":9},"送排风机","1020301",null,null,null,"总建筑面积-停车场-设备机房","00-02-03"]
[{"$nulls":11},"停车场风机","102030101",null,"总建筑面积-停车场-设备机房","00-02-03"]
[{"$nulls":11},"消防风机","102030102",null,"总建筑面积-停车场-设备机房","00-02-03"]
[{"$nulls":11},"厨房风机","102030103",null,"总建筑面积-停车场-设备机房","00-02-03"]
[{"$nulls":11},"卫生间风机","102030104",null,"总建筑面积-停车场-设备机房","00-02-03"]
[{"$nulls":9},"给排水泵","1020302",null,null,null,"停车场面积","02"]
[{"$nulls":9},"电梯","1020303",null,null,null,"总建筑面积-停车场-设备机房","00-02-03"]
[{"$nulls":11},"直梯","102030301",null,"总建筑面积-停车场-设备机房","00-02-04"]
[{"$nulls":11},"自动扶梯","102030302",null,"总建筑面积-停车场-设备机房","00-02-05"]
[{"$nulls":5},"特殊用电","103",{"$nulls":7},"总建筑面积-停车场-设备机房","00-02-06"]
[{"$nulls":7},"信息机房","10301",{"$nulls":5},"总建筑面积-停车场-设备机房","00-02-07"]
[{"$nulls":7},"变损","10302",{"$nulls":5},"总建筑面积-停车场-设备机房","00-02-08"]
[{"$nulls":7},"其他","10303",{"$nulls":5},"总建筑面积-停车场-设备机房","00-02-03"]
[null,null,null,"总供冷量",2,{"$nulls":9},"空调面积","01"]
[null,null,null,"总供热量",3,{"$nulls":9},"总建筑面积-停车场-设备机房","00-02-03"]
[{"$nulls":5},"采暖耗热量","301",{"$nulls":7},"空调面积","01"]
[{"$nulls":5},"生活热水耗热量","302",{"$nulls":7},"总建筑面积-停车场-设备机房","00-02-03"]
[{"$nulls":5},"其他功能区耗热量","303",{"$nulls":7},"总建筑面积-停车场-设备机房","00-02-03"]
[null,null,null,"总水耗",4,{"$nulls":9},"总建筑面积-停车场-设备机房","00-02-03"]
[{"$nulls":5},"空调采暖用水","401",{"$nulls":7},"空调面积","01"]
[{"$nulls":5},"生活热水用水","402",{"$nulls":7},"总建筑面积-停车场-设备机房","00-02-03"]
[{"$nulls":5},"生活冷水（上下水系统）用水","403",{"$nulls":7},"总建筑面积-停车场-设备机房","00-02-03"]
[{"$nulls":5},"生活中水用水","404",{"$nulls":7},"总建筑面积-停车场-设备机房","00-02-03"]
[{"$nulls":5},"景观喷灌用水","405",{"$nulls":7},"总建筑面积-停车场-设备机房","00-02-03"]
[{"$nulls":5},"其他功能区用水","406",{"$nulls":7},"总建筑面积-停车场-设备机房","00-02-03"]
[null,null,null,"总燃气耗量",5,{"$nulls":9},"总建筑面积-停车场-设备机房","00-02-03"]
[{"$nulls":5},"空调采暖用气","501",{"$nulls":7},"空调面积","01"]
[{"$nulls":5},"生活热水用气","502",{"$nulls":7},"总建筑面积-停车场-设备机房","00-02-03"]
[{"$nulls":5},"其他功能区用气","503",{"$nulls":7},"总建筑面积-停车场-设备机房","00-02-03"]
[null,null,null,"总燃油耗量",6,{"$nulls":9},"总建筑面积-停车场-设备机房","00-02-03"]
[{"$nulls":5},"锅炉耗油","601",{"$nulls":7},"总建筑面积-停车场-设备机房","00-02-03"]
[{"$nulls":5},"发动机耗油","602",{"$nulls":7},"总建筑面积-停车场-设备机房","00-02-03"]
[{"$nulls":5},"其他耗油分项","603",{"$nulls":7},"总建筑面积-停车场-设备机房","00-02-03"]
[null,null,null,"总蒸汽量",7,{"$nulls":9},"总建筑面积-停车场-设备机房","00-02-03"]
[{"$nulls":5},"空调采暖用蒸汽","701",{"$nulls":7},"空调面积","01"]
[{"$nulls":5},"生活热水用蒸汽","702",{"$nulls":7},"总建筑面积-停车场-设备机房","00-02-03"]
[{"$nulls":5},"其他功能区用蒸汽","703",{"$nulls":7},"总建筑面积-停车场-设备机房","00-02-03"]

{"sheet":"S3","index":12,"n_rows":66,"n_cols":16,"rows_kept":66,"cut":false,"hidden":false,"merged":[[1,14,1,15],[3,1,65,1],[3,2,65,2],[1,1,1,2],[1,3,1,4],[1,5,1,6],[1,7,1,8],[1,9,1,10],[1,11,1,12]]}
[]
[null,"通用面积体系",null,"一级",null,"二级",null,"三级",null,"四级",null,"五级",null,null,"指标计算用面积（商场面积树A3）"]
[null,"名称","编码","名称","编码","名称","编码","名称","编码","名称","编码","名称","编码",null,"名称","编码"]
[null,"商场分项树","S3","总电耗",1,{"$nulls":9},"总建筑面积-停车场-设备机房","00-02-03"]
[{"$nulls":5},"服务功能区用电","101",{"$nulls":7},"服务功能区面积和","0102"]
[{"$nulls":7},"商业租户","10101",{"$nulls":5},"商业租户面积","010201"]
[{"$nulls":7},"写字楼租户","10102",{"$nulls":5},"写字楼租户","010202"]
[{"$nulls":5},"公区用电","102",{"$nulls":7},"公区面积","0101"]
[{"$nulls":7},"暖通空调","10201",{"$nulls":5},"空调面积","01"]
[{"$nulls":9},"集中冷热站","1020101",null,null,null,"空调面积","01"]
[{"$nulls":11},"制冷主机","102010101",null,"空调面积","01"]
[{"$nulls":11},"制热主机","102010102",null,"空调面积","01"]
[{"$nulls":11},"冷冻泵","102010103",null,"空调面积","01"]
[{"$nulls":11},"冷却泵","102010104",null,"空调面积","01"]
[{"$nulls":11},"冷却塔","102010105",null,"空调面积","01"]
[{"$nulls":11},"采暖泵","102010106",null,"空调面积","01"]
[{"$nulls":9},"空调末端","1020102",null,null,null,"空调面积","01"]
[{"$nulls":11},"空调箱","102010201",null,"空调面积","01"]
[{"$nulls":11},"新风机","102010202",null,"空调面积","01"]
[{"$nulls":11},"风盘，VAV，分体等","102010203",null,"空调面积","01"]
[{"$nulls":7},"公共照明","10202",{"$nulls":5},"总建筑面积-停车场-设备机房","00-02-03"]
[{"$nulls":9},"室内照明","1020201",null,null,null,"总建筑面积-停车场-设备机房","00-02-03"]
[{"$nulls":11},"室内普通照明","102020101",null,"总建筑面积-停车场-设备机房","00-02-03"]
[{"$nulls":11},"室内应急照明","102020102",null,"总建筑面积-停车场-设备机房","00-02-03"]
[{"$nulls":11},"停车场照明","102020103",null,"停车场面积","02"]
[{"$nulls":9},"室外照明","1020202",null,null,null,"总建筑面积-停车场-设备机房","00-02-03"]
[{"$nulls":11},"夜景照明","102020201",null,"总建筑面积-停车场-设备机房","00-02-03"]
[{"$nulls":11},"景观照明","102020202",null,"总建筑面积-停车场-设备机房","00-02-03"]
[{"$nulls":7},"动力设备","10203",{"$nulls":5},"总建筑面积-停车场-设备机房","00-02-03"]
[{"$nulls":9},"送排风机","1020301",null,null,null,"总建筑面积-停车场-设备机房","00-02-03"]
[{"$nulls":11},"停车场风机","102030101",null,"总建筑面积-停车场-设备机房","00-02-03"]
[{"$nulls":11},"消防风机","102030102",null,"总建筑面积-停车场-设备机房","00-02-03"]
[{"$nulls":11},"厨房风机","102030103",null,"总建筑面积-停车场-设备机房","00-02-03"]
[{"$nulls":11},"卫生间风机","102030104",null,"总建筑面积-停车场-设备机房","00-02-03"]
[{"$nulls":9},"给排水泵","1020302",null,null,null,"停车场面积","02"]
[{"$nulls":9},"电梯","1020303",null,null,null,"总建筑面积-停车场-设备机房","00-02-03"]
[{"$nulls":11},"直梯","102030301",null,"总建筑面积-停车场-设备机房","00-02-03"]
[{"$nulls":11},"自动扶梯","102030302",null,"总建筑面积-停车场-设备机房","00-02-03"]
[{"$nulls":5},"特殊用电","103",{"$nulls":7},"总建筑面积-停车场-设备机房","00-02-03"]
[{"$nulls":7},"信息机房","10301",{"$nulls":5},"总建筑面积-停车场-设备机房","00-02-03"]
[{"$nulls":7},"变损","10302",{"$nulls":5},"总建筑面积-停车场-设备机房","00-02-03"]
[{"$nulls":7},"其他","10303",{"$nulls":5},"总建筑面积-停车场-设备机房","00-02-03"]
[null,null,null,"总供冷量",2,{"$nulls":9},"空调面积","01"]
[null,null,null,"总供热量",3,{"$nulls":9},"总建筑面积-停车场-设备机房","00-02-03"]
[{"$nulls":5},"采暖耗热量","301",{"$nulls":7},"空调面积","01"]
[{"$nulls":5},"生活热水耗热量","302",{"$nulls":7},"总建筑面积-停车场-设备机房","00-02-03"]
[{"$nulls":5},"其他功能区耗热量","303",{"$nulls":7},"总建筑面积-停车场-设备机房","00-02-03"]
[null,null,null,"总水耗",4,{"$nulls":9},"总建筑面积-停车场-设备机房","00-02-03"]
[{"$nulls":5},"空调采暖用水","401",{"$nulls":7},"空调面积","01"]
[{"$nulls":5},"生活热水用水","402",{"$nulls":7},"总建筑面积-停车场-设备机房","00-02-03"]
[{"$nulls":5},"生活冷水（上下水系统）用水","403",{"$nulls":7},"总建筑面积-停车场-设备机房","00-02-03"]
[{"$nulls":5},"生活中水用水","404",{"$nulls":7},"总建筑面积-停车场-设备机房","00-02-03"]
[{"$nulls":5},"景观喷灌用水","405",{"$nulls":7},"总建筑面积-停车场-设备机房","00-02-03"]
[{"$nulls":5},"其他功能区用水","406",{"$nulls":7},"总建筑面积-停车场-设备机房","00-02-03"]
[null,null,null,"总燃气耗量",5,{"$nulls":9},"总建筑面积-停车场-设备机房","00-02-03"]
[{"$nulls":5},"空调采暖用气","501",{"$nulls":7},"空调面积","01"]
[{"$nulls":5},"生活热水用气","502",{"$nulls":7},"总建筑面积-停车场-设备机房","00-02-03"]
[{"$nulls":5},"其他功能区用气","503",{"$nulls":7},"总建筑面积-停车场-设备机房","00-02-03"]
[null,null,null,"总燃油耗量",6,{"$nulls":9},"总建筑面积-停车场-设备机房","00-02-03"]
[{"$nulls":5},"锅炉耗油","601",{"$nulls":7},"总建筑面积-停车场-设备机房","00-02-03"]
[{"$nulls":5},"发动机耗油","602",{"$nulls":7},"总建筑面积-停车场-设备机房","00-02-03"]
[{"$nulls":5},"其他耗油分项","603",{"$nulls":7},"总建筑面积-停车场-设备机房","00-02-03"]
[null,null,null,"总蒸汽量",7,{"$nulls":9},"总建筑面积-停车场-设备机房","00-02-03"]
[{"$nulls":5},"空调采暖用蒸汽","701",{"$nulls":7},"空调面积","01"]
[{"$nulls":5},"生活热水用蒸汽","702",{"$nulls":7},"总建筑面积-停车场-设备机房","00-02-03"]
[{"$nulls":5},"其他功能区用蒸汽","703",{"$nulls":7},"总建筑面积-停车场-设备机房","00-02-03"]

{"sheet":"S4","index":13,"n_rows":83,"n_cols":16,"rows_kept":83,"cut":false,"hidden":false,"merged":[[3,1,82,1],[3,2,82,2],[1,14,1,15],[1,1,1,2],[1,3,1,4],[1,5,1,6],[1,7,1,8],[1,9,1,10],[1,11,1,12]]}
[]
[null,"通用面积体系",null,"一级",null,"二级",null,"三级",null,"四级",null,"五级",null,null,"指标计算用面积（宾馆酒店面积树A4）"]
[null,"名称","编码","名称","编码","名称","编码","名称","编码","名称","编码","名称","编码",null,"名称","编码"]
[null,"宾馆酒店分项树","S4","总电耗",1,{"$nulls":9},"总建筑面积","00"]
[{"$nulls":5},"服务功能区用电",101,{"$nulls":7},"服务功能区面积和","0102"]
[{"$nulls":7},"客房",10101,{"$nulls":5},"客房面积","010201"]
[{"$nulls":7},"游泳馆",10102,{"$nulls":5},"游泳馆","010202"]
[{"$nulls":7},"会议室",10103,{"$nulls":5},"会议室","010203"]
[{"$nulls":7},"餐厅总（包括中餐厅、日餐厅等）",10104,{"$nulls":5},"餐厅总（包括中餐厅、日餐厅等）","010204"]
[{"$nulls":7},"健身房",10105,{"$nulls":5},"健身房","010205"]
[{"$nulls":7},"洗衣房",10106,{"$nulls":5},"洗衣房","010206"]
[{"$nulls":7},"多功能厅",10107,{"$nulls":5},"多功能厅","010207"]
[{"$nulls":7},"影院",10108,{"$nulls":5},"影院","010208"]
[{"$nulls":7},"KTV",10109,{"$nulls":5},"KTV","010209"]
[{"$nulls":7},"洗浴",10110,{"$nulls":5},"洗浴","010210"]
[{"$nulls":7},"SPA按摩",10111,{"$nulls":5},"SPA按摩","010211"]
[{"$nulls":7},"棋牌室",10112,{"$nulls":5},"棋牌室","010212"]
[{"$nulls":7},"网吧",10113,{"$nulls":5},"网吧","010213"]
[{"$nulls":7},"美体美甲",10114,{"$nulls":5},"美体美甲","010214"]
[{"$nulls":7},"美发",10115,{"$nulls":5},"美发","010215"]
[{"$nulls":5},"公区用电",102,{"$nulls":7},"公区面积","0102"]
[{"$nulls":7},"暖通空调",10201,{"$nulls":5},"空调面积","01"]
[{"$nulls":9},"集中冷热站",1020101,null,null,null,"空调面积","01"]
[{"$nulls":11},"制冷主机",102010101,null,"空调面积","01"]
[{"$nulls":11},"制热主机",102010102,null,"空调面积","01"]
[{"$nulls":11},"冷冻泵",102010103,null,"空调面积","01"]
[{"$nulls":11},"冷却泵",102010104,null,"空调面积","01"]
[{"$nulls":11},"冷却塔",102010105,null,"空调面积","01"]
[{"$nulls":11},"采暖泵",102010106,null,"空调面积","01"]
[{"$nulls":9},"空调末端",1020102,null,null,null,"空调面积","01"]
[{"$nulls":11},"空调箱",102010201,null,"空调面积","01"]
[{"$nulls":11},"新风机",102010202,null,"空调面积","01"]
[{"$nulls":11},"风盘，VAV，分体等",102010203,null,"空调面积","01"]
[{"$nulls":7},"公共照明",10202,{"$nulls":5},"总建筑面积-停车场-设备机房","00-02-03"]
[{"$nulls":9},"室内照明",1020201,null,null,null,"总建筑面积-停车场-设备机房","00-02-03"]
[{"$nulls":11},"室内普通照明",102020101,null,"总建筑面积-停车场-设备机房","00-02-03"]
[{"$nulls":11},"室内应急照明",102020102,null,"总建筑面积-停车场-设备机房","00-02-03"]
[{"$nulls":11},"停车场照明",102020103,null,"停车场面积","02"]
[{"$nulls":9},"室外照明",1020202,null,null,null,"总建筑面积-停车场-设备机房","00-02-03"]
[{"$nulls":11},"夜景照明",102020201,null,"总建筑面积-停车场-设备机房","00-02-03"]
[{"$nulls":11},"景观照明",102020202,null,"总建筑面积-停车场-设备机房","00-02-03"]
[{"$nulls":7},"动力设备",10203,{"$nulls":5},"总建筑面积-停车场-设备机房","00-02-03"]
[{"$nulls":9},"送排风机",1020301,null,null,null,"总建筑面积-停车场-设备机房","00-02-03"]
[{"$nulls":11},"停车场风机",102030101,null,"停车场面积","02"]
[{"$nulls":11},"消防风机",102030102,null,"总建筑面积-停车场-设备机房","00-02-03"]
[{"$nulls":11},"厨房风机",102030103,null,"总建筑面积-停车场-设备机房","00-02-03"]
[{"$nulls":11},"卫生间风机",102030104,null,"总建筑面积-停车场-设备机房","00-02-03"]
[{"$nulls":9},"给排水泵",1020302,null,null,null,"总建筑面积-停车场-设备机房","00-02-03"]
[{"$nulls":9},"电梯",1020303,null,null,null,"总建筑面积-停车场-设备机房","00-02-03"]
[{"$nulls":11},"直梯",102030301,null,"总建筑面积-停车场-设备机房","00-02-03"]
[{"$nulls":11},"自动扶梯",102030302,null,"总建筑面积-停车场-设备机房","00-02-03"]
[{"$nulls":5},"特殊用电",103,{"$nulls":7},"总建筑面积-停车场-设备机房","00-02-03"]
[{"$nulls":7},"信息机房",10301,{"$nulls":5},"总建筑面积-停车场-设备机房","00-02-03"]
[{"$nulls":7},"变损",10302,{"$nulls":5},"总建筑面积-停车场-设备机房","00-02-03"]
[{"$nulls":7},"其他",10303,{"$nulls":5},"总建筑面积-停车场-设备机房","00-02-03"]
[{"$nulls":9},"后勤办公",1030301,null,null,null,"总建筑面积-停车场-设备机房","00-02-03"]
[{"$nulls":9},"员工食堂",1030302,null,null,null,"总建筑面积-停车场-设备机房","00-02-03"]
[{"$nulls":9},"其他",1030303,null,null,null,"总建筑面积-停车场-设备机房","00-02-03"]
[null,null,null,"总供冷量",2,{"$nulls":9},"空调面积","01"]
[null,null,null,"总供热量",3,{"$nulls":9},"总建筑面积-停车场-设备机房","00-02-03"]
[{"$nulls":5},"采暖耗热量",301,{"$nulls":7},"空调面积","01"]
[{"$nulls":5},"生活热水耗热量",302,{"$nulls":7},"总建筑面积-停车场-设备机房","00-02-03"]
[{"$nulls":5},"其他功能区耗热量",303,{"$nulls":7},"总建筑面积-停车场-设备机房","00-02-03"]
[null,null,null,"总水耗",4,{"$nulls":9},"总建筑面积-停车场-设备机房","00-02-03"]
[{"$nulls":5},"空调采暖用水",401,{"$nulls":7},"空调面积","01"]
[{"$nulls":5},"生活热水用水",402,{"$nulls":7},"总建筑面积-停车场-设备机房","00-02-03"]
[{"$nulls":5},"生活冷水（上下水系统）用水",403,{"$nulls":7},"总建筑面积-停车场-设备机房","00-02-03"]
[{"$nulls":5},"生活中水用水",404,{"$nulls":7},"总建筑面积-停车场-设备机房","00-02-03"]
[{"$nulls":5},"景观喷灌用水",405,{"$nulls":7},"总建筑面积-停车场-设备机房","00-02-03"]
[{"$nulls":5},"其他功能区用水",406,{"$nulls":7},"总建筑面积-停车场-设备机房","00-02-03"]
[null,null,null,"总燃气耗量",5,{"$nulls":9},"总建筑面积-停车场-设备机房","00-02-03"]
[{"$nulls":5},"空调采暖用气",501,{"$nulls":7},"空调面积","01"]
[{"$nulls":5},"生活热水用气",502,{"$nulls":7},"总建筑面积-停车场-设备机房","00-02-03"]
[{"$nulls":5},"厨房用气",503,{"$nulls":7},"总建筑面积-停车场-设备机房","00-02-03"]
[{"$nulls":5},"其他功能区用气",504,{"$nulls":7},"总建筑面积-停车场-设备机房","00-02-03"]
[null,null,null,"总燃油耗量",6,{"$nulls":9},"总建筑面积-停车场-设备机房","00-02-03"]
[{"$nulls":5},"锅炉耗油",601,{"$nulls":7},"总建筑面积-停车场-设备机房","00-02-03"]
[{"$nulls":5},"发动机耗油",602,{"$nulls":7},"总建筑面积-停车场-设备机房","00-02-03"]
[{"$nulls":5},"其他耗油分项",603,{"$nulls":7},"总建筑面积-停车场-设备机房","00-02-03"]
[null,null,null,"总蒸汽量",7,{"$nulls":9},"总建筑面积-停车场-设备机房","00-02-03"]
[{"$nulls":5},"空调采暖用蒸汽",701,{"$nulls":7},"空调面积","01"]
[{"$nulls":5},"生活热水用蒸汽",702,{"$nulls":7},"总建筑面积-停车场-设备机房","00-02-03"]
[{"$nulls":5},"其他功能区用蒸汽",703,{"$nulls":7},"总建筑面积-停车场-设备机房","00-02-03"]

{"sheet":"S5","index":14,"n_rows":92,"n_cols":16,"rows_kept":92,"cut":false,"hidden":false,"merged":[[1,14,1,15],[3,1,91,1],[3,2,91,2],[1,1,1,2],[1,3,1,4],[1,5,1,6],[1,7,1,8],[1,9,1,10],[1,11,1,12]]}
[]
[null,"通用面积体系",null,"一级",null,"二级",null,"三级",null,"四级",null,"五级",null,null,"指标计算用面积（医院面积树A5）"]
[null,"名称","编码","名称","编码","名称","编码","名称","编码","名称","编码","名称","编码",null,"名称","编码"]
[null,"医院分项树","S5","总电耗",1,{"$nulls":9},"总建筑面积","00"]
[{"$nulls":5},"服务功能区用电","101",{"$nulls":7},"服务功能区面积和","0102"]
[{"$nulls":7},"门诊区","10101",{"$nulls":5},"门诊区","010201"]
[{"$nulls":7},"急诊区","10102",{"$nulls":5},"急诊区","010202"]
[{"$nulls":7},"病房区","10103",{"$nulls":5},"病房区","010203"]
[{"$nulls":7},"急诊区","10104",{"$nulls":5},"急诊区","010204"]
[{"$nulls":7},"传染门诊","10105",{"$nulls":5},"传染门诊","010205"]
[{"$nulls":7},"发热门诊","10106",{"$nulls":5},"发热门诊","010206"]
[{"$nulls":7},"生殖医学中心","10107",{"$nulls":5},"生殖医学中心","010207"]
[{"$nulls":7},"手术部","10108",{"$nulls":5},"手术部","010208"]
[{"$nulls":7},"放射科","10109",{"$nulls":5},"放射科","010209"]
[{"$nulls":7},"核磁共振检查室","10110",{"$nulls":5},"核磁共振检查室","010210"]
[{"$nulls":7},"放射治疗科","10111",{"$nulls":5},"放射治疗科","010211"]
[{"$nulls":7},"核医学科","10112",{"$nulls":5},"核医学科","010212"]
[{"$nulls":7},"介入治疗","10113",{"$nulls":5},"介入治疗","010213"]
[{"$nulls":7},"检验科","10114",{"$nulls":5},"检验科","010214"]
[{"$nulls":7},"病理科","10115",{"$nulls":5},"病理科","010215"]
[{"$nulls":7},"内窥镜","10116",{"$nulls":5},"内窥镜","010216"]
[{"$nulls":7},"血库","10117",{"$nulls":5},"血库","010217"]
[{"$nulls":7},"洗衣房","10118",{"$nulls":5},"洗衣房","010218"]
[{"$nulls":7},"实验室","10119",{"$nulls":5},"实验室","010219"]
[{"$nulls":7},"太平间","10120",{"$nulls":5},"太平间","010220"]
[{"$nulls":5},"公区用电","102",{"$nulls":7},"公区面积","0102"]
[{"$nulls":7},"暖通空调","10201",{"$nulls":5},"空调面积","01"]
[{"$nulls":9},"集中冷热站","1020101",null,null,null,"空调面积","01"]
[{"$nulls":11},"制冷主机","102010101",null,"空调面积","01"]
[{"$nulls":11},"制热主机","102010102",null,"空调面积","01"]
[{"$nulls":11},"冷冻泵","102010103",null,"空调面积","01"]
[{"$nulls":11},"冷却泵","102010104",null,"空调面积","01"]
[{"$nulls":11},"冷却塔","102010105",null,"空调面积","01"]
[{"$nulls":11},"采暖泵","102010106",null,"空调面积","01"]
[{"$nulls":9},"空调末端","1020102",null,null,null,"空调面积","01"]
[{"$nulls":11},"空调箱","102010201",null,"空调面积","01"]
[{"$nulls":11},"新风机","102010202",null,"空调面积","01"]
[{"$nulls":11},"风盘，VAV，分体等","102010203",null,"空调面积","01"]
[{"$nulls":11},"洁净空调","102010204",null,"空调面积","01"]
[{"$nulls":7},"公共照明","10202",{"$nulls":5},"总建筑面积-停车场-设备机房","00-02-03"]
[{"$nulls":9},"室内照明","1020201",null,null,null,"总建筑面积-停车场-设备机房","00-02-03"]
[{"$nulls":11},"室内普通照明","102020101",null,"总建筑面积-停车场-设备机房","00-02-03"]
[{"$nulls":11},"室内应急照明","102020102",null,"总建筑面积-停车场-设备机房","00-02-03"]
[{"$nulls":11},"停车场照明","102020103",null,"停车场面积","02"]
[{"$nulls":9},"室外照明","1020202",null,null,null,"总建筑面积-停车场-设备机房","00-02-03"]
[{"$nulls":11},"夜景照明","102020201",null,"总建筑面积-停车场-设备机房","00-02-03"]
[{"$nulls":11},"景观照明","102020202",null,"总建筑面积-停车场-设备机房","00-02-03"]
[{"$nulls":7},"动力设备","10203",{"$nulls":5},"总建筑面积-停车场-设备机房","00-02-03"]
[{"$nulls":9},"送排风机","1020301",null,null,null,"总建筑面积-停车场-设备机房","00-02-03"]
[{"$nulls":11},"停车场风机","102030101",null,"停车场面积","02"]
[{"$nulls":11},"消防风机","102030102",null,"总建筑面积-停车场-设备机房","00-02-03"]
[{"$nulls":11},"厨房风机","102030103",null,"总建筑面积-停车场-设备机房","00-02-03"]
[{"$nulls":11},"卫生间风机","102030104",null,"总建筑面积-停车场-设备机房","00-02-03"]
[{"$nulls":9},"给排水泵","1020302",null,null,null,"总建筑面积-停车场-设备机房","00-02-03"]
[{"$nulls":9},"电梯","1020303",null,null,null,"总建筑面积-停车场-设备机房","00-02-03"]
[{"$nulls":11},"直梯","102030301",null,"总建筑面积-停车场-设备机房","00-02-03"]
[{"$nulls":11},"自动扶梯","102030302",null,"总建筑面积-停车场-设备机房","00-02-03"]
[{"$nulls":5},"特殊用电","103",{"$nulls":7},"总建筑面积-停车场-设备机房","00-02-03"]
[{"$nulls":7},"信息机房","10301",{"$nulls":5},"总建筑面积-停车场-设备机房","00-02-03"]
[{"$nulls":7},"变损","10302",{"$nulls":5},"总建筑面积-停车场-设备机房","00-02-03"]
[{"$nulls":7},"其他","10303",{"$nulls":5},"总建筑面积-停车场-设备机房","00-02-03"]
[{"$nulls":9},"后勤办公","1030301",null,null,null,"总建筑面积-停车场-设备机房","00-02-03"]
[{"$nulls":9},"员工食堂","1030302",null,null,null,"总建筑面积-停车场-设备机房","00-02-03"]
[{"$nulls":9},"大型医疗设备用电","1030303",null,null,null,"总建筑面积-停车场-设备机房","00-02-03"]
[{"$nulls":9},"其他","1030304",null,null,null,"总建筑面积-停车场-设备机房","00-02-03"]
[null,null,null,"总供冷量",2,{"$nulls":9},"空调面积","01"]
[null,null,null,"总供热量",3,{"$nulls":9},"总建筑面积-停车场-设备机房","00-02-03"]
[{"$nulls":5},"采暖耗热量","301",{"$nulls":7},"空调面积","01"]
[{"$nulls":5},"生活热水耗热量","302",{"$nulls":7},"总建筑面积-停车场-设备机房","00-02-03"]
[{"$nulls":5},"其他功能区耗热量","303",{"$nulls":7},"总建筑面积-停车场-设备机房","00-02-03"]
[null,null,null,"总水耗",4,{"$nulls":9},"总建筑面积-停车场-设备机房","00-02-03"]
[{"$nulls":5},"空调采暖用水","401",{"$nulls":7},"空调面积","01"]
[{"$nulls":5},"生活热水用水","402",{"$nulls":7},"总建筑面积-停车场-设备机房","00-02-03"]
[{"$nulls":5},"生活冷水（上下水系统）用水","403",{"$nulls":7},"总建筑面积-停车场-设备机房","00-02-03"]
[{"$nulls":5},"生活中水用水","404",{"$nulls":7},"总建筑面积-停车场-设备机房","00-02-03"]
[{"$nulls":5},"医用纯水用水","405",{"$nulls":7},"总建筑面积-停车场-设备机房","00-02-03"]
[{"$nulls":5},"景观喷灌用水","406",{"$nulls":7},"总建筑面积-停车场-设备机房","00-02-03"]
[{"$nulls":5},"其他功能区用水","407",{"$nulls":7},"总建筑面积-停车场-设备机房","00-02-03"]
[{"$nulls":5},"医用纯水用水","408",{"$nulls":7},"总建筑面积-停车场-设备机房","00-02-03"]
[null,null,null,"总燃气耗量",5,{"$nulls":9},"总建筑面积-停车场-设备机房","00-02-03"]
[{"$nulls":5},"空调采暖用气","501",{"$nulls":7},"空调面积","01"]
[{"$nulls":5},"生活热水用气","502",{"$nulls":7},"总建筑面积-停车场-设备机房","00-02-03"]
[{"$nulls":5},"其他功能区用气","503",{"$nulls":7},"总建筑面积-停车场-设备机房","00-02-03"]
[null,null,null,"总燃油耗量",6,{"$nulls":9},"总建筑面积-停车场-设备机房","00-02-03"]
[{"$nulls":5},"锅炉耗油","601",{"$nulls":7},"总建筑面积-停车场-设备机房","00-02-03"]
[{"$nulls":5},"发动机耗油","602",{"$nulls":7},"总建筑面积-停车场-设备机房","00-02-03"]
[{"$nulls":5},"其他耗油分项","603",{"$nulls":7},"总建筑面积-停车场-设备机房","00-02-03"]
[null,null,null,"总蒸汽量",7,{"$nulls":9},"总建筑面积-停车场-设备机房","00-02-03"]
[{"$nulls":5},"空调采暖用蒸汽","701",{"$nulls":7},"空调面积","01"]
[{"$nulls":5},"生活热水用蒸汽","702",{"$nulls":7},"总建筑面积-停车场-设备机房","00-02-03"]
[{"$nulls":5},"其他功能区用蒸汽","703",{"$nulls":7},"总建筑面积-停车场-设备机房","00-02-03"]
[{"$nulls":5},"医用消毒用蒸汽","704",{"$nulls":7},"总建筑面积-停车场-设备机房","00-02-03"]

{"sheet":"分项能耗标尺","index":15,"n_rows":44,"n_cols":10,"rows_kept":44,"cut":false,"hidden":false,"merged":[]}
[]
[]
[null,"标准库（5级以上分项）"]
[null,null,"1级分项名称","2级分项名称","3级分项名称","4级分项名称","5级分项名称","标尺最小值（kWh/m2.a）","标尺最大值（kWh/m2.a）","默认值（kWh/m2.a）"]
[null,1,"建筑总电耗",{"$nulls":4},"无","无","无"]
[null,2,null,"物业自管",null,null,null,0,450,{"$f":"AVERAGE(H6:I6)","v":225}]
[null,3,null,null,"租户总用电",null,null,0,250,{"$f":"AVERAGE(H7:I7)","v":125}]
[null,4,null,null,null,"商业租户",null,0,200,{"$f":"AVERAGE(H8:I8)","v":100}]
[null,5,null,null,null,"写字楼租户",null,0,200,100]
[null,6,null,null,null,"公寓租户",null,0,100,50]
[null,7,null,null,null,"住宅租户",null,0,100,50]
[null,8,null,null,null,"3Q租户",null,0,100,50]
[null,9,null,null,null,"其他租户",null,0,100,50]
[null,10,null,null,"公区总用电",null,null,0,250,125]
[null,11,null,null,null,"暖通空调",null,0,100,50]
[null,12,{"$nulls":4},"集中冷热站",0,75,37.5]
[null,13,{"$nulls":4},"空调末端",0,50,25]
[null,14,null,null,null,"公共照明",null,0,100,50]
[null,15,{"$nulls":4},"室内照明",0,75,37.5]
[null,16,{"$nulls":4},"室外照明",0,50,25]
[null,17,{"$nulls":4},"停车场照明",0,150,75]
[null,18,null,null,null,"动力设备",null,0,75,37.5]
[null,19,{"$nulls":4},"送排风机",0,50,25]
[null,20,{"$nulls":4},"给排水泵",0,20,10]
[null,21,{"$nulls":4},"消防水泵",0,20,10]
[null,22,{"$nulls":4},"电梯",0,30,15]
[null,23,{"$nulls":4},"厨房动力设备",0,20,10]
[null,24,null,null,"特殊功能区总用电",null,null,0,250,125]
[null,25,null,null,null,"后勤",null,0,150,75]
[null,26,null,null,null,"客房",null,0,150,75]
[null,27,null,null,null,"餐饮厨房",null,0,150,75]
[null,28,null,null,null,"文娱",null,0,150,75]
[null,29,null,null,null,"医疗",null,0,150,75]
[null,30,null,null,null,"学校",null,0,150,75]
[null,31,null,null,null,"洗衣房",null,0,400,200]
[null,32,null,null,"特殊设备总用电",null,null,0,150,75]
[null,33,null,null,null,"设备机房",null,0,800,400]
[null,34,null,null,null,"特殊设备",null,0,800,400]
[null,35,null,null,"其他用电",null,null,0,150,75]
[null,36,null,"非物业自管",null,null,null,0,250,125]
[null,37,null,"变压器损失",null,null,null,0,25,12.5]
[]
[]
[null,null,"如果上述分项没有，则默认标尺范围为0~50，默认值为10"]

{"sheet":"T","index":16,"n_rows":29,"n_cols":9,"rows_kept":29,"cut":false,"hidden":false,"merged":[[24,2,24,5],[25,2,25,5],[26,2,26,5],[27,2,27,5],[28,2,28,5],[18,2,18,5],[19,2,19,5],[21,2,21,5],[22,2,22,5],[23,2,23,5],[20,2,20,5],[14,2,14,5],[15,2,15,5],[16,2,16,5],[17,2,17,5],[1,1,1,8],[2,1,2,2],[2,3,2,4],[2,5,2,6],[2,7,2,8]]}
[]
[null,"0-建筑功能类型与通用面积和通用分项的对应关系"]
[null,"建筑功能类型",null,"博锐通用面积树",null,"行业分项树",null,"博锐通用分项树"]
[null,"名称","编码","名称","编码","名称","编码","名称","编码"]
[null,"商业综合体","1","商业综合体","A1","商业综合体","S1","尚格通用模型","S0"]
[null,"办公建筑","2","办公建筑","A2","办公建筑","S2","尚格通用模型","S0"]
[null,"商场","3","商场","A3","商场","S3","尚格通用模型","S0"]
[null,"宾馆酒店","4","宾馆酒店","A4","宾馆酒店","S4","尚格通用模型","S0"]
[null,"医院","5","医院","A5","医院","S5","尚格通用模型","S0"]
[null,"学校","6","学校","A6","学校","S6","尚格通用模型","S0"]
[null,"住宅","7","住宅","A7","住宅","S7","尚格通用模型","S0"]
[null,"大园区","预留","大园区","预留","大园区","预留","尚格通用模型","预留"]
[]
[]
[null,1,"通用分项树与通用面积树对应关系",null,null,null,"S0~A1/2/3/4/5/…","见S0表"]
[null,2,"商业综合体分项树与商业综合体面积树关系",null,null,null,"S1~A1","见S1表"]
[null,3,"办公分项树与办公面积树关系",null,null,null,"S2~A2","见S2表"]
[null,4,"商场分项树与商场面积树关系",null,null,null,"S3~A3","见S3表"]
[null,5,"宾馆酒店分项树与宾馆酒店面积树关系",null,null,null,"S4~A4","见S4表"]
[null,6,"医院分项树与医院面积树关系",null,null,null,"S5~A5","见S5表"]
[null,7,"学校分项树与学校面积树关系",null,null,null,"S6~A6","见S6表"]
[null,8,"住宅面积树与住宅分项树关系",null,null,null,"S7~A7","见S7表"]
[null,9,"商业综合体分项树与通用分项树关系",null,null,null,"S1~S0","见S1表"]
[null,"A","办公分项树与通用分项树关系",null,null,null,"S2~S0","见S2表"]
[null,"B","商场分项树与通用分项树关系",null,null,null,"S3~S0","见S3表"]
[null,"C","宾馆酒店分项树与通用分项树关系",null,null,null,"S4~S0","见S4表"]
[null,"D","医院分项树与通用分项树关系",null,null,null,"S5~S0","见S5表"]
[null,"E","学校分项树与通用分项树关系",null,null,null,"S6~S0","见S6表"]
[null,"F","住宅分项树与通用分项树关系",null,null,null,"S7~S0","见S7表"]

{"sheet":"行业分项树与标准分项树对应","index":17,"n_rows":310,"n_cols":24,"rows_kept":310,"cut":false,"hidden":false,"merged":[]}
[null,"红色字体","名称或编号有更改",null,"指现标准分项库中没有对应的标准分项"]
[]
[null,null,"原行业分项树410\n（商业综合体）",null,null,"→","现标准分项库-电1和其他2~15",null,null,null,"原行业分项树420\n（办公建筑）",null,null,"→","现标准分项库-电1和其他2~15",null,null,null,"原行业分项树430\n（商场）",null,null,"→","现标准分项库-电1和其他2~15"]
[null,"能源种类","分项名称","分项级别","分项编码","→","分项名称","分项编码",null,"能源种类","分项名称","分项级别","分项编码","→","分项名称","分项编码",null,"能源种类","分项名称","分项级别","分项编码","→","分项名称","分项编码"]
[null,"电","总电耗","一级",1,"→",{"$f":"'[1]1229标准分项库-电1（新）'!B8","v":"建筑总电耗"},{"$f":"'[1]1229标准分项库-电1（新）'!C8","v":"1"},null,"电","总电耗","一级",1,"→",{"$f":"G5","v":"建筑总电耗"},{"$f":"H5","v":"1"},null,"电","总电耗","一级",1,"→",{"$f":"G5","v":"建筑总电耗"},{"$f":"H5","v":"1"}]
[null,"电","服务功能区用电","二级",101,"→",{"$f":"'[1]1229标准分项库-电1（新）'!F10","v":"租户总用电"},{"$f":"'[1]1229标准分项库-电1（新）'!G10","v":"10101"},null,"电","服务功能区用电","二级",101,"→",{"$f":"G6","v":"租户总用电"},{"$f":"H6","v":"10101"},null,"电","服务功能区用电","二级",101,"→",{"$f":"O6","v":"租户总用电"},{"$f":"P6","v":"10101"}]
[null,"电","商业租户","三级",10101,"→",{"$f":"'[1]1229标准分项库-电1（新）'!H11","v":"商业租户"},{"$f":"'[1]1229标准分项库-电1（新）'!I11","v":"1010101"},null,"电","商业租户","三级",10101,"→",{"$f":"G7","v":"商业租户"},"1010101",null,"电","商业租户","三级",10101,"→",{"$f":"G7","v":"商业租户"},"1010101"]
[null,"电","写字楼租户","三级",10102,"→",{"$f":"'[1]1229标准分项库-电1（新）'!H32","v":"写字楼租户"},{"$f":"'[1]1229标准分项库-电1（新）'!I32","v":"1010102"},null,"电","写字楼租户","三级",10102,"→","写字楼租户","1010102",null,"电","写字楼租户","三级",10102,"→","写字楼租户","1010102"]
[null,"电","公区用电","二级",102,"→",{"$f":"'[1]1229标准分项库-电1（新）'!F39","v":"公区总用电"},{"$f":"'[1]1229标准分项库-电1（新）'!G39","v":"10102"},null,"电","公区用电","二级",102,"→","公区总用电","10102",null,"电","公区用电","二级",102,"→","公区总用电","10102"]
[null,"电","暖通空调","三级",10201,"→",{"$f":"'[1]1229标准分项库-电1（新）'!H40","v":"暖通空调"},{"$f":"'[1]1229标准分项库-电1（新）'!I40","v":"1010201"},null,"电","暖通空调","三级",10201,"→","暖通空调","1010201",null,"电","暖通空调","三级",10201,"→","暖通空调","1010201"]
[null,"电","集中冷热站","四级",1020101,"→",{"$f":"'[1]1229标准分项库-电1（新）'!J41","v":"集中冷热站"},{"$f":"'[1]1229标准分项库-电1（新）'!K41","v":"101020101"},null,"电","集中冷热站","四级",1020101,"→","集中冷热站","101020101",null,"电","集中冷热站","四级",1020101,"→","集中冷热站","101020101"]
[null,"电","制冷主机","五级",102010101,"→",{"$f":"'[1]1229标准分项库-电1（新）'!N43","v":"制冷主机"},{"$f":"'[1]1229标准分项库-电1（新）'!O43","v":"1010201010101"},null,"电","制冷主机","五级",102010101,"→","制冷主机","1010201010101",null,"电","制冷主机","五级",102010101,"→","制冷主机","1010201010101"]
[null,"电","制热主机","五级",102010102,"→",{"$f":"'[1]1229标准分项库-电1（新）'!N48","v":"电锅炉"},{"$f":"'[1]1229标准分项库-电1（新）'!O48","v":"1010201010201"},null,"电","制热主机","五级",102010102,"→","电锅炉","1010201010201",null,"电","制热主机","五级",102010102,"→","电锅炉","1010201010201"]
[null,"电","冷冻泵","五级",102010103,"→",{"$f":"'[1]1229标准分项库-电1（新）'!N44","v":"冷冻泵"},{"$f":"'[1]1229标准分项库-电1（新）'!O44","v":"1010201010102"},null,"电","冷冻泵","五级",102010103,"→","冷冻泵","1010201010102",null,"电","冷冻泵","五级",102010103,"→","冷冻泵","1010201010102"]
[null,"电","冷却泵","五级",102010104,"→",{"$f":"'[1]1229标准分项库-电1（新）'!N45","v":"冷却泵"},{"$f":"'[1]1229标准分项库-电1（新）'!O45","v":"1010201010103"},null,"电","冷却泵","五级",102010104,"→","冷却泵","1010201010103",null,"电","冷却泵","五级",102010104,"→","冷却泵","1010201010103"]
[null,"电","冷却塔","五级",102010105,"→",{"$f":"'[1]1229标准分项库-电1（新）'!N46","v":"冷却塔"},{"$f":"'[1]1229标准分项库-电1（新）'!O46","v":"1010201010104"},null,"电","冷却塔","五级",102010105,"→","冷却塔","1010201010104",null,"电","冷却塔","五级",102010105,"→","冷却塔","1010201010104"]
[null,"电","采暖泵","五级",102010106,"→",{"$f":"'[1]1229标准分项库-电1（新）'!N50","v":"采暖泵"},{"$f":"'[1]1229标准分项库-电1（新）'!O50","v":"1010201010203"},null,"电","采暖泵","五级",102010106,"→","采暖泵","1010201010203",null,"电","采暖泵","五级",102010106,"→","采暖泵","1010201010203"]
[null,"电","空调末端","四级",1020102,"→",{"$f":"'[1]1229标准分项库-电1（新）'!J51","v":"空调末端"},{"$f":"'[1]1229标准分项库-电1（新）'!K51","v":"101020102"},null,"电","空调末端","四级",1020102,"→","空调末端","101020102",null,"电","空调末端","四级",1020102,"→","空调末端","101020102"]
[null,"电","空调箱","五级",102010201,"→",{"$f":"'[1]1229标准分项库-电1（新）'!L52","v":"空调箱"},{"$f":"'[1]1229标准分项库-电1（新）'!M52","v":"10102010201"},null,"电","空调箱","五级",102010201,"→","空调箱","10102010201",null,"电","空调箱","五级",102010201,"→","空调箱","10102010201"]
[null,"电","新风机","五级",102010202,"→",{"$f":"'[1]1229标准分项库-电1（新）'!L53","v":"新风机组"},{"$f":"'[1]1229标准分项库-电1（新）'!M53","v":"10102010202"},null,"电","新风机","五级",102010202,"→","新风机组","10102010202",null,"电","新风机","五级",102010202,"→","新风机组","10102010202"]
[null,"电","风盘，VAV，分体等","五级",102010203,"→",{"$f":"'[1]1229标准分项库-电1（新）'!L54","v":"风机盘管/VAV"},{"$f":"'[1]1229标准分项库-电1（新）'!M54","v":"10102010203"},null,"电","风盘，VAV，分体等","五级",102010203,"→","风机盘管/VAV","10102010203",null,"电","风盘，VAV，分体等","五级",102010203,"→","风机盘管/VAV","10102010203"]
[null,"电","公共照明","三级",10202,"→",{"$f":"'[1]1229标准分项库-电1（新）'!H59","v":"公共照明"},{"$f":"'[1]1229标准分项库-电1（新）'!I59","v":"1010202"},null,"电","公共照明","三级",10202,"→","公共照明","1010202",null,"电","公共照明","三级",10202,"→","公共照明","1010202"]
[null,"电","室内照明","四级",1020201,"→",{"$f":"'[1]1229标准分项库-电1（新）'!J60","v":"室内照明"},{"$f":"'[1]1229标准分项库-电1（新）'!K60","v":101020201},null,"电","室内照明","四级",1020201,"→","室内照明",101020201,null,"电","室内照明","四级",1020201,"→","室内照明",101020201]
[null,"电","室内普通照明","五级",102020201,"→",{"$f":"'[1]1229标准分项库-电1（新）'!L61","v":"室内普通照明"},{"$f":"'[1]1229标准分项库-电1（新）'!M61","v":"10102020101"},null,"电","室内普通照明","五级",102020201,"→","室内普通照明","10102020101",null,"电","室内普通照明","五级",102020201,"→","室内普通照明","10102020101"]
[null,"电","室内应急照明","五级",102020202,"→",{"$f":"'[1]1229标准分项库-电1（新）'!L62","v":"室内应急照明"},{"$f":"'[1]1229标准分项库-电1（新）'!M62","v":"10102020102"},null,"电","室内应急照明","五级",102020202,"→","室内应急照明","10102020102",null,"电","室内应急照明","五级",102020202,"→","室内应急照明","10102020102"]
[null,"电","停车场照明","五级",102020203,"→",{"$f":"'[1]1229标准分项库-电1（新）'!J68","v":"停车场照明"},{"$f":"'[1]1229标准分项库-电1（新）'!K68","v":"101020203"},null,"电","停车场照明","五级",102020203,"→","停车场照明","101020203",null,"电","停车场照明","五级",102020203,"→","停车场照明","101020203"]
[null,"电","室外照明","四级",1020202,"→",{"$f":"'[1]1229标准分项库-电1（新）'!J63","v":"室外照明"},{"$f":"'[1]1229标准分项库-电1（新）'!K63","v":"101020202"},null,"电","室外照明","四级",1020202,"→","室外照明","101020202",null,"电","室外照明","四级",1020202,"→","室外照明","101020202"]
[null,"电","夜景照明","五级",102020201,"→",{"$f":"'[1]1229标准分项库-电1（新）'!L64","v":"夜景照明"},{"$f":"'[1]1229标准分项库-电1（新）'!M64","v":"10102020201"},null,"电","夜景照明","五级",102020201,"→","夜景照明","10102020201",null,"电","夜景照明","五级",102020201,"→","夜景照明","10102020201"]
[null,"电","景观照明","五级",102020202,"→",{"$f":"'[1]1229标准分项库-电1（新）'!L67","v":"景观照明"},{"$f":"'[1]1229标准分项库-电1（新）'!M67","v":"10102020202"},null,"电","景观照明","五级",102020202,"→","景观照明","10102020202",null,"电","景观照明","五级",102020202,"→","景观照明","10102020202"]
[null,"电","动力设备","三级",10203,"→",{"$f":"'[1]1229标准分项库-电1（新）'!H72","v":"动力设备"},{"$f":"'[1]1229标准分项库-电1（新）'!I72","v":"1010203"},null,"电","动力设备","三级",10203,"→","动力设备","1010203",null,"电","动力设备","三级",10203,"→","动力设备","1010203"]
[null,"电","送排风机","四级",1020301,"→",{"$f":"'[1]1229标准分项库-电1（新）'!J73","v":"送排风机"},{"$f":"'[1]1229标准分项库-电1（新）'!K73","v":"101020301"},null,"电","送排风机","四级",1020301,"→","送排风机","101020301",null,"电","送排风机","四级",1020301,"→","送排风机","101020301"]
[null,"电","停车场风机","五级",102030101,"→",{"$f":"'[1]1229标准分项库-电1（新）'!L74","v":"停车场送排风机"},{"$f":"'[1]1229标准分项库-电1（新）'!M74","v":"10102030101"},null,"电","停车场风机","五级",102030101,"→","停车场送排风机","10102030101",null,"电","停车场风机","五级",102030101,"→","停车场送排风机","10102030101"]
[null,"电","消防风机","五级",102030102,"→",{"$f":"'[1]1229标准分项库-电1（新）'!L75","v":"消防送排风机"},{"$f":"'[1]1229标准分项库-电1（新）'!M75","v":"10102030102"},null,"电","消防风机","五级",102030102,"→","消防送排风机","10102030102",null,"电","消防风机","五级",102030102,"→","消防送排风机","10102030102"]
[null,"电","厨房风机","五级",102030103,"→",{"$f":"'[1]1229标准分项库-电1（新）'!L76","v":"厨房送排风机"},{"$f":"'[1]1229标准分项库-电1（新）'!M76","v":"10102030103"},null,"电","厨房风机","五级",102030103,"→","厨房送排风机","10102030103",null,"电","厨房风机","五级",102030103,"→","厨房送排风机","10102030103"]
[null,"电","卫生间风机","五级",102030104,"→",{"$f":"'[1]1229标准分项库-电1（新）'!L77","v":"卫生间送排风机"},{"$f":"'[1]1229标准分项库-电1（新）'!M77","v":"10102030104"},null,"电","卫生间风机","五级",102030104,"→","卫生间送排风机","10102030104",null,"电","卫生间风机","五级",102030104,"→","卫生间送排风机","10102030104"]
[null,"电","给排水泵","四级",1020302,"→",{"$f":"'[1]1229标准分项库-电1（新）'!J79","v":"给排水泵"},{"$f":"'[1]1229标准分项库-电1（新）'!K79","v":"101020302"},null,"电","给排水泵","四级",1020302,"→","给排水泵","101020302",null,"电","给排水泵","四级",1020302,"→","给排水泵","101020302"]
[null,"电","电梯","四级",1020303,"→",{"$f":"'[1]1229标准分项库-电1（新）'!J87","v":"电梯"},{"$f":"'[1]1229标准分项库-电1（新）'!K87","v":"101020304"},null,"电","电梯","四级",1020303,"→","电梯","101020304",null,"电","电梯","四级",1020303,"→","电梯","101020304"]
[null,"电","直梯","五级",102030301,"→",{"$f":"'[1]1229标准分项库-电1（新）'!L88","v":"直梯"},{"$f":"'[1]1229标准分项库-电1（新）'!M88","v":"10102030401"},null,"电","直梯","五级",102030301,"→","直梯","10102030401",null,"电","直梯","五级",102030301,"→","直梯","10102030401"]
[null,"电","自动扶梯","五级",102030302,"→",{"$f":"'[1]1229标准分项库-电1（新）'!L92","v":"自动扶梯"},{"$f":"'[1]1229标准分项库-电1（新）'!M92","v":"10102030402"},null,"电","自动扶梯","五级",102030302,"→","自动扶梯","10102030402",null,"电","自动扶梯","五级",102030302,"→","自动扶梯","10102030402"]
[null,"电","特殊用电","二级",103,"→",{"$f":"'[1]1229标准分项库-电1（新）'!F163","v":"特殊设备总用电"},{"$f":"'[1]1229标准分项库-电1（新）'!G163","v":"10104"},null,"电","特殊用电","二级",103,"→","特殊设备总用电","10104",null,"电","特殊用电","二级",103,"→","特殊设备总用电","10104"]
[null,"电","信息机房","三级",10301,"→",{"$f":"'[1]1229标准分项库-电1（新）'!H164","v":"设备机房"},{"$f":"'[1]1229标准分项库-电1（新）'!I164","v":"1010401"},null,"电","信息机房","三级",10301,"→","设备机房","1010401",null,"电","信息机房","三级",10301,"→","设备机房","1010401"]
[null,"电","变损","三级",10302,"→",{"$f":"'[1]1229标准分项库-电1（新）'!D175","v":"变压器损失"},{"$f":"'[1]1229标准分项库-电1（新）'!E175","v":"103"},null,"电","变损","三级",10302,"→","变压器损失","103",null,"电","变损","三级",10302,"→","变压器损失","103"]
[null,"电","其他","三级",10303,"→",{"$f":"'[1]1229标准分项库-电1（新）'!F173","v":"其他用电"},{"$f":"'[1]1229标准分项库-电1（新）'!G173","v":"10105"},null,"电","其他","三级",10303,"→","其他用电","10105",null,"电","其他","三级",10303,"→","其他用电","10105"]
[]
[null,"冷","总供冷量","一级",2,"→",{"$f":"'[1]标准分项库-其他2~15（新）'!C5","v":"总供冷量"},{"$f":"'[1]标准分项库-其他2~15（新）'!D5","v":"2"},null,"冷","总供冷量","一级",2,"→",{"$f":"G45","v":"总供冷量"},{"$f":"H45","v":"2"},null,"冷","总供冷量","一级",2,"→","总供冷量","2"]
[]
[null,"热","总供热量","一级",3,"→",{"$f":"'[1]标准分项库-其他2~15（新）'!C10","v":"总供热量"},{"$f":"'[1]标准分项库-其他2~15（新）'!D10","v":3},null,"热","总供热量","一级",3,"→",{"$f":"G47","v":"总供热量"},{"$f":"H47","v":3},null,"热","总供热量","一级",3,"→","总供热量",3]
[null,"热","采暖耗热量","二级",301,"→",{"$f":"'[1]标准分项库-其他2~15（新）'!E11","v":"采暖耗热量"},{"$f":"'[1]标准分项库-其他2~15（新）'!F11","v":301},null,"热","采暖耗热量","二级",301,"→",{"$f":"G48","v":"采暖耗热量"},301,null,"热","采暖耗热量","二级",301,"→","采暖耗热量",301]
[null,"热","生活热水耗热量","二级",302,"→",{"$f":"'[1]标准分项库-其他2~15（新）'!E12","v":"生活热水耗热量"},{"$f":"'[1]标准分项库-其他2~15（新）'!F12","v":302},null,"热","生活热水耗热量","二级",302,"→","生活热水耗热量",302,null,"热","生活热水耗热量","二级",302,"→","生活热水耗热量",302]
[null,"热","其他功能区耗热量","二级",303,"→",{"$f":"'[1]标准分项库-其他2~15（新）'!E13","v":"其他功能区耗热量"},{"$f":"'[1]标准分项库-其他2~15（新）'!F13","v":303},null,"热","其他功能区耗热量","二级",303,"→","其他功能区耗热量",303,null,"热","其他功能区耗热量","二级",303,"→","其他功能区耗热量",303]
[]
[null,"水","总水耗","一级",4,"→",{"$f":"'[1]标准分项库-其他2~15（新）'!C18","v":"总用水量"},{"$f":"'[1]标准分项库-其他2~15（新）'!D18","v":"4"},null,"水","总水耗","一级",4,"→",{"$f":"G52","v":"总用水量"},{"$f":"H52","v":"4"},null,"水","总水耗","一级",4,"→","总用水量","4"]
[null,"水","空调采暖用水","二级",401,"→",{"$f":"'[1]标准分项库-其他2~15（新）'!E19","v":"空调采暖用水"},{"$f":"'[1]标准分项库-其他2~15（新）'!F19","v":401},null,"水","空调采暖用水","二级",401,"→",{"$f":"G53","v":"空调采暖用水"},401,null,"水","空调采暖用水","二级",401,"→","空调采暖用水",401]
[null,"水","生活热水用水","二级",402,"→",{"$f":"'[1]标准分项库-其他2~15（新）'!E20","v":"生活热水用水"},{"$f":"'[1]标准分项库-其他2~15（新）'!F20","v":402},null,"水","生活热水用水","二级",402,"→","生活热水用水",402,null,"水","生活热水用水","二级",402,"→","生活热水用水",402]
[null,"水","生活冷水（上下水系统）用水","二级",403,"→",{"$f":"'[1]标准分项库-其他2~15（新）'!E21","v":"生活冷水（上下水系统）用水"},{"$f":"'[1]标准分项库-其他2~15（新）'!F21","v":403},null,"水","生活冷水（上下水系统）用水","二级",403,"→","生活冷水（上下水系统）用水",403,null,"水","生活冷水（上下水系统）用水","二级",403,"→","生活冷水（上下水系统）用水",403]
[null,"水","生活中水用水","二级",404,"→",{"$f":"'[1]标准分项库-其他2~15（新）'!E22","v":"生活中水用水"},{"$f":"'[1]标准分项库-其他2~15（新）'!F22","v":404},null,"水","生活中水用水","二级",404,"→","生活中水用水",404,null,"水","生活中水用水","二级",404,"→","生活中水用水",404]
[null,"水","景观喷灌用水","二级",405,"→",{"$f":"'[1]标准分项库-其他2~15（新）'!E23","v":"景观喷灌用水"},{"$f":"'[1]标准分项库-其他2~15（新）'!F23","v":405},null,"水","景观喷灌用水","二级",405,"→","景观喷灌用水",405,null,"水","景观喷灌用水","二级",405,"→","景观喷灌用水",405]
[null,"水","其他功能区用水","二级",406,"→",{"$f":"'[1]标准分项库-其他2~15（新）'!E24","v":"其他功能区用水"},{"$f":"'[1]标准分项库-其他2~15（新）'!F24","v":406},null,"水","其他功能区用水","二级",406,"→","其他功能区用水",406,null,"水","其他功能区用水","二级",406,"→","其他功能区用水",406]
[]
[null,"燃气","总燃气耗量","一级",5,"→",{"$f":"'[1]标准分项库-其他2~15（新）'!C29","v":"总燃气耗量"},{"$f":"'[1]标准分项库-其他2~15（新）'!D29","v":5},null,"燃气","总燃气耗量","一级",5,"→",{"$f":"G60","v":"总燃气耗量"},{"$f":"H60","v":5},null,"燃气","总燃气耗量","一级",5,"→","总燃气耗量",5]
[null,"燃气","空调采暖用气","二级",501,"→",{"$f":"'[1]标准分项库-其他2~15（新）'!E30","v":"空调采暖用气"},{"$f":"'[1]标准分项库-其他2~15（新）'!F30","v":501},null,"燃气","空调采暖用气","二级",501,"→",{"$f":"G61","v":"空调采暖用气"},501,null,"燃气","空调采暖用气","二级",501,"→","空调采暖用气",501]
[null,"燃气","生活热水用气","二级",502,"→",{"$f":"'[1]标准分项库-其他2~15（新）'!E31","v":"生活热水用气"},{"$f":"'[1]标准分项库-其他2~15（新）'!F31","v":502},null,"燃气","生活热水用气","二级",502,"→","生活热水用气",502,null,"燃气","生活热水用气","二级",502,"→","生活热水用气",502]
[null,"燃气","其他功能区用气","二级",503,"→",{"$f":"'[1]标准分项库-其他2~15（新）'!E32","v":"其他功能区用气"},{"$f":"'[1]标准分项库-其他2~15（新）'!F32","v":503},null,"燃气","其他功能区用气","二级",503,"→","其他功能区用气",503,null,"燃气","其他功能区用气","二级",503,"→","其他功能区用气",503]
[]
[null,"燃油","总燃油耗量","一级",6,"→",{"$f":"'[1]标准分项库-其他2~15（新）'!C37","v":"总燃油耗量"},{"$f":"'[1]标准分项库-其他2~15（新）'!D37","v":6},null,"燃油","总燃油耗量","一级",6,"→",{"$f":"G65","v":"总燃油耗量"},{"$f":"H65","v":6},null,"燃油","总燃油耗量","一级",6,"→","总燃油耗量",6]
[null,"燃油","锅炉耗油","二级",601,"→",{"$f":"'[1]标准分项库-其他2~15（新）'!E38","v":"锅炉耗油"},{"$f":"'[1]标准分项库-其他2~15（新）'!F38","v":601},null,"燃油","锅炉耗油","二级",601,"→",{"$f":"G66","v":"锅炉耗油"},601,null,"燃油","锅炉耗油","二级",601,"→","锅炉耗油",601]
[null,"燃油","发动机耗油","二级",602,"→",{"$f":"'[1]标准分项库-其他2~15（新）'!E39","v":"发动机耗油"},{"$f":"'[1]标准分项库-其他2~15（新）'!F39","v":602},null,"燃油","发动机耗油","二级",602,"→","发动机耗油",602,null,"燃油","发动机耗油","二级",602,"→","发动机耗油",602]
[null,"燃油","其他耗油分项","二级",603,"→",{"$f":"'[1]标准分项库-其他2~15（新）'!E40","v":"其他耗油分项"},{"$f":"'[1]标准分项库-其他2~15（新）'!F40","v":603},null,"燃油","其他耗油分项","二级",603,"→","其他耗油分项",603,null,"燃油","其他耗油分项","二级",603,"→","其他耗油分项",603]
[]
[null,"蒸汽","总蒸汽量","一级",7,"→",{"$f":"'[1]标准分项库-其他2~15（新）'!C45","v":"总蒸汽量"},{"$f":"'[1]标准分项库-其他2~15（新）'!D45","v":7},null,"蒸汽","总蒸汽量","一级",7,"→",{"$f":"G70","v":"总蒸汽量"},{"$f":"H70","v":7},null,"蒸汽","总蒸汽量","一级",7,"→",{"$f":"G70","v":"总蒸汽量"},7]
[null,"蒸汽","空调采暖用蒸汽","二级",701,"→",{"$f":"'[1]标准分项库-其他2~15（新）'!E46","v":"空调采暖用蒸汽"},{"$f":"'[1]标准分项库-其他2~15（新）'!F46","v":701},null,"蒸汽","空调采暖用蒸汽","二级",701,"→",{"$f":"G71","v":"空调采暖用蒸汽"},701,null,"蒸汽","空调采暖用蒸汽","二级",701,"→","空调采暖用蒸汽",701]
[null,"蒸汽","生活热水用蒸汽","二级",702,"→",{"$f":"'[1]标准分项库-其他2~15（新）'!E47","v":"生活热水用蒸汽"},{"$f":"'[1]标准分项库-其他2~15（新）'!F47","v":702},null,"蒸汽","生活热水用蒸汽","二级",702,"→","生活热水用蒸汽",702,null,"蒸汽","生活热水用蒸汽","二级",702,"→","生活热水用蒸汽",702]
[null,"蒸汽","其他功能区用蒸汽","二级",703,"→",{"$f":"'[1]标准分项库-其他2~15（新）'!E48","v":"其他功能区用蒸汽"},{"$f":"'[1]标准分项库-其他2~15（新）'!F48","v":703},null,"蒸汽","其他功能区用蒸汽","二级",703,"→","其他功能区用蒸汽",703,null,"蒸汽","其他功能区用蒸汽","二级",703,"→","其他功能区用蒸汽",703]
[]
[]
[]
[null,null,"原酒店分项树440\n（酒店）",null,null,"→","现标准分项库-电1和其他2~15",null,null,null,"原医院分项树450\n（医院）",null,null,"→","现标准分项库-电1和其他2~15"]
[null,"能源种类","分项名称","分项级别","分项编码","→","分项名称","分项编码",null,"能源种类","分项名称","分项级别","分项编码","→","分项名称","分项编码"]
[null,"电","总电耗","一级",1,"→",{"$f":"G5","v":"建筑总电耗"},{"$f":"H5","v":"1"},null,"电","总电耗","一级",1,"→",{"$f":"'[1]1229标准分项库-电1（新）'!B8","v":"建筑总电耗"},{"$f":"'[1]1229标准分项库-电1（新）'!C8","v":"1"}]
[null,"电","服务功能区用电","二级",101,"→",{"$f":"'[1]1229标准分项库-电1（新）'!F98","v":"特殊功能区总用电"},{"$f":"'[1]1229标准分项库-电1（新）'!G98","v":"10103"},null,"电","服务功能区用电",null,101,"→",{"$f":"'[1]1229标准分项库-电1（新）'!F98","v":"特殊功能区总用电"},{"$f":"'[1]1229标准分项库-电1（新）'!G98","v":"10103"}]
[null,"电","客房",null,10101,"→",{"$f":"'[1]1229标准分项库-电1（新）'!H104","v":"客房"},{"$f":"'[1]1229标准分项库-电1（新）'!I104","v":"1010302"},null,"电","门诊区",null,10101,"→",{"$f":"'[1]1229标准分项库-电1（新）'!J128","v":"普通门诊"},{"$f":"'[1]1229标准分项库-电1（新）'!K128","v":"101030501"}]
[null,"电","游泳馆",null,10102,"→",{"$f":"'[1]1229标准分项库-电1（新）'!J116","v":"游泳馆"},{"$f":"'[1]1229标准分项库-电1（新）'!K116","v":"101030401"},null,"电","急诊区",null,10102,"→",{"$f":"'[1]1229标准分项库-电1（新）'!J131","v":"急诊"},{"$f":"'[1]1229标准分项库-电1（新）'!K131","v":"101030504"}]
[null,"电","会议室",null,10103,"→",{"$f":"'[1]1229标准分项库-电1（新）'!J117","v":"会议室"},{"$f":"'[1]1229标准分项库-电1（新）'!K117","v":"101030402"},null,"电","病房区",null,10103,"→",{"$f":"'[1]1229标准分项库-电1（新）'!J132","v":"病房"},{"$f":"'[1]1229标准分项库-电1（新）'!K132","v":"101030505"}]
[null,"电","餐厅总（包括中餐厅、日餐厅等）",null,10104,"→",{"$f":"'[1]1229标准分项库-电1（新）'!H109","v":"餐饮厨房"},{"$f":"'[1]1229标准分项库-电1（新）'!I109","v":"1010303"},null,"电","挂号区",null,10104,"→",{"$f":"'[1]1229标准分项库-电1（新）'!J145","v":"挂号区"},{"$f":"'[1]1229标准分项库-电1（新）'!K145","v":"101030518"}]
[null,"电","健身房",null,10105,"→",{"$f":"'[1]1229标准分项库-电1（新）'!J118","v":"健身房"},{"$f":"'[1]1229标准分项库-电1（新）'!K118","v":"101030403"},null,"电","传染门诊",null,10105,"→",{"$f":"'[1]1229标准分项库-电1（新）'!J130","v":"传染门诊"},{"$f":"'[1]1229标准分项库-电1（新）'!K130","v":"101030503"}]
[null,"电","洗衣房",null,10106,"→",{"$f":"'[1]1229标准分项库-电1（新）'!H162","v":"洗衣房"},{"$f":"'[1]1229标准分项库-电1（新）'!I162","v":"1010307"},null,"电","发热门诊",null,10106,"→",{"$f":"'[1]1229标准分项库-电1（新）'!J129","v":"发热门诊"},{"$f":"'[1]1229标准分项库-电1（新）'!K129","v":"101030502"}]
[null,"电","多功能厅",null,10107,"→",{"$f":"'[1]1229标准分项库-电1（新）'!J119","v":"多功能厅"},{"$f":"'[1]1229标准分项库-电1（新）'!K119","v":"101030404"},null,"电","生殖医学中心",null,10107,"→",{"$f":"'[1]1229标准分项库-电1（新）'!J146","v":"生殖医学中心"},{"$f":"'[1]1229标准分项库-电1（新）'!K146","v":"101030519"}]
[null,"电","影院",null,10108,"→",{"$f":"'[1]1229标准分项库-电1（新）'!L15","v":"影院"},{"$f":"'[1]1229标准分项库-电1（新）'!M15","v":"10101010103"},null,"电","手术部",null,10108,"→",{"$f":"'[1]1229标准分项库-电1（新）'!J133","v":"手术室"},{"$f":"'[1]1229标准分项库-电1（新）'!K133","v":"101030506"}]
[null,"电","KTV",null,10109,"→",{"$f":"'[1]1229标准分项库-电1（新）'!L21","v":"KTV"},{"$f":"'[1]1229标准分项库-电1（新）'!M21","v":"10101010106"},null,"电","放射科",null,10109,"→",{"$f":"'[1]1229标准分项库-电1（新）'!J139","v":"放射科诊室"},{"$f":"'[1]1229标准分项库-电1（新）'!K139","v":"101030512"}]
[null,"电","洗浴",null,10110,"→",{"$f":"'[1]1229标准分项库-电1（新）'!J120","v":"洗浴中心"},{"$f":"'[1]1229标准分项库-电1（新）'!K120","v":"101030405"},null,"电","核磁共振检查室",null,10110,"→",{"$f":"'[1]1229标准分项库-电1（新）'!J147","v":"核磁共振检查室"},{"$f":"'[1]1229标准分项库-电1（新）'!K147","v":"101030520"}]
[null,"电","SPA按摩",null,10111,"→",{"$f":"'[1]1229标准分项库-电1（新）'!J121","v":"SPA按摩"},{"$f":"'[1]1229标准分项库-电1（新）'!K121","v":"101030406"},null,"电","放射治疗科",null,10111,"→",{"$f":"'[1]1229标准分项库-电1（新）'!J139","v":"放射科诊室"},{"$f":"'[1]1229标准分项库-电1（新）'!K139","v":"101030512"}]
[null,"电","棋牌室",null,10112,"→",{"$f":"'[1]1229标准分项库-电1（新）'!J122","v":"棋牌室"},{"$f":"'[1]1229标准分项库-电1（新）'!K122","v":"101030407"},null,"电","核医学科",null,10112,"→",{"$f":"'[1]1229标准分项库-电1（新）'!J148","v":"核医学科"},{"$f":"'[1]1229标准分项库-电1（新）'!K148","v":"101030521"}]
[null,"电","网吧",null,10113,"→",{"$f":"'[1]1229标准分项库-电1（新）'!J123","v":"网吧"},{"$f":"'[1]1229标准分项库-电1（新）'!K123","v":"101030408"},null,"电","介入治疗",null,10113,"→",{"$f":"'[1]1229标准分项库-电1（新）'!J149","v":"介入治疗"},{"$f":"'[1]1229标准分项库-电1（新）'!K149","v":"101030522"}]
[null,"电","美体美甲",null,10114,"→",{"$f":"'[1]1229标准分项库-电1（新）'!J124","v":"美体美甲"},{"$f":"'[1]1229标准分项库-电1（新）'!K124","v":"101030409"},null,"电","检验科",null,10114,"→",{"$f":"'[1]1229标准分项库-电1（新）'!J142","v":"化验室"},{"$f":"'[1]1229标准分项库-电1（新）'!K142","v":"101030515"}]
[null,"电","美发",null,10115,"→",{"$f":"'[1]1229标准分项库-电1（新）'!J125","v":"美发"},{"$f":"'[1]1229标准分项库-电1（新）'!K125","v":"101030410"},null,"电","病理科",null,10115,"→",{"$f":"'[1]1229标准分项库-电1（新）'!J150","v":"病理科"},{"$f":"'[1]1229标准分项库-电1（新）'!K150","v":"101030523"}]
[null,"电","公区用电","二级",102,"→",{"$f":"G9","v":"公区总用电"},{"$f":"H9","v":"10102"},null,"电","内窥镜",null,10116,"→",{"$f":"'[1]1229标准分项库-电1（新）'!J151","v":"内窥镜"},{"$f":"'[1]1229标准分项库-电1（新）'!K151","v":"101030524"}]
[null,"电","暖通空调","三级",10201,"→",{"$f":"G10","v":"暖通空调"},"1010201",null,"电","血库",null,10117,"→",{"$f":"'[1]1229标准分项库-电1（新）'!J144","v":"血库"},{"$f":"'[1]1229标准分项库-电1（新）'!K144","v":"101030517"}]
[null,"电","集中冷热站","四级",1020101,"→","集中冷热站","101020101",null,"电","洗衣房",null,10118,"→",{"$f":"'[1]1229标准分项库-电1（新）'!H162","v":"洗衣房"},{"$f":"'[1]1229标准分项库-电1（新）'!I162","v":"1010307"}]
[null,"电","制冷主机","五级",102010101,"→","制冷主机","1010201010101",null,"电","实验室",null,10119,"→",{"$f":"'[1]1229标准分项库-电1（新）'!J143","v":"实验室"},{"$f":"'[1]1229标准分项库-电1（新）'!K143","v":"101030516"}]
[null,"电","制热主机","五级",102010102,"→","电锅炉","1010201010201",null,"电","太平间",null,10120,"→",{"$f":"'[1]1229标准分项库-电1（新）'!J152","v":"太平间"},{"$f":"'[1]1229标准分项库-电1（新）'!K152","v":"101030525"}]
[null,"电","冷冻泵","五级",102010103,"→","冷冻泵","1010201010102",null,"电","公区用电","二级",102,"→",{"$f":"O9","v":"公区总用电"},"10102"]
[null,"电","冷却泵","五级",102010104,"→","冷却泵","1010201010103",null,"电","暖通空调","三级",10201,"→","暖通空调","1010201"]
[null,"电","冷却塔","五级",102010105,"→","冷却塔","1010201010104",null,"电","集中冷热站","四级",1020101,"→","集中冷热站","101020101"]
[null,"电","采暖泵","五级",102010106,"→","采暖泵","1010201010203",null,"电","制冷主机","五级",102010101,"→","制冷主机","1010201010101"]
[null,"电","空调末端","四级",1020102,"→","空调末端","101020102",null,"电","制热主机","五级",102010102,"→","电锅炉","1010201010201"]
[null,"电","空调箱","五级",102010201,"→","空调箱","10102010201",null,"电","冷冻泵","五级",102010103,"→","冷冻泵","1010201010102"]
[null,"电","新风机","五级",102010202,"→","新风机组","10102010202",null,"电","冷却泵","五级",102010104,"→","冷却泵","1010201010103"]
[null,"电","风盘，VAV，分体等","五级",102010203,"→","风机盘管/VAV","10102010203",null,"电","冷却塔","五级",102010105,"→","冷却塔","1010201010104"]
[null,"电","公共照明","三级",10202,"→","公共照明","1010202",null,"电","采暖泵","五级",102010106,"→","采暖泵","1010201010203"]
[null,"电","室内照明","四级",1020201,"→","室内照明",101020201,null,"电","空调末端","四级",1020102,"→","空调末端","101020102"]
[null,"电","室内普通照明","五级",102020201,"→","室内普通照明","10102020101",null,"电","空调箱","五级",102010201,"→","空调箱","10102010201"]
[null,"电","室内应急照明","五级",102020202,"→","室内应急照明","10102020102",null,"电","新风机","五级",102010202,"→","新风机组","10102010202"]
[null,"电","停车场照明","五级",102020203,"→",{"$f":"G26","v":"停车场照明"},"101020203",null,"电","风盘，VAV，分体等","五级",102010203,"→","风机盘管/VAV","10102010203"]
[null,"电","室外照明","四级",1020202,"→","室外照明","101020202",null,"电","洁净空调","五级",102010204,"→",{"$f":"'[1]1229标准分项库-电1（新）'!L58","v":"洁净空调"},{"$f":"'[1]1229标准分项库-电1（新）'!M58","v":"10102010207"}]
[null,"电","夜景照明","五级",102020201,"→","夜景照明","10102020201",null,"电","公共照明","三级",10202,"→",{"$f":"O22","v":"公共照明"},"1010202"]
[null,"电","景观照明","五级",102020202,"→","景观照明","10102020202",null,"电","室内照明","四级",1020201,"→","室内照明",101020201]
[null,"电","动力设备","三级",10203,"→","动力设备","1010203",null,"电","室内普通照明","五级",102020201,"→","室内普通照明","10102020101"]
[null,"电","送排风机","四级",1020301,"→","送排风机","101020301",null,"电","室内应急照明","五级",102020202,"→","室内应急照明","10102020102"]
[null,"电","停车场风机","五级",102030101,"→","停车场送排风机","10102030101",null,"电","停车场照明","五级",102020203,"→","停车场照明","101020203"]
[null,"电","消防风机","五级",102030102,"→","消防送排风机","10102030102",null,"电","室外照明","四级",1020202,"→","室外照明","101020202"]
[null,"电","厨房风机","五级",102030103,"→","厨房送排风机","10102030103",null,"电","夜景照明","五级",102020201,"→","夜景照明","10102020201"]
[null,"电","卫生间风机","五级",102030104,"→","卫生间送排风机","10102030104",null,"电","景观照明","五级",102020202,"→","景观照明","10102020202"]
[null,"电","给排水泵","四级",1020302,"→","给排水泵","101020302",null,"电","动力设备","三级",10203,"→","动力设备","1010203"]
[null,"电","电梯","四级",1020303,"→","电梯","101020304",null,"电","送排风机","四级",1020301,"→","送排风机","101020301"]
[null,"电","直梯","五级",102030301,"→","直梯","10102030401",null,"电","停车场风机","五级",102030101,"→","停车场送排风机","10102030101"]
[null,"电","自动扶梯","五级",102030302,"→","自动扶梯","10102030402",null,"电","消防风机","五级",102030102,"→","消防送排风机","10102030102"]
[null,"电","特殊用电","二级",103,"→","特殊设备总用电","10104",null,"电","厨房风机","五级",102030103,"→","厨房送排风机","10102030103"]
[null,"电","信息机房","三级",10301,"→","设备机房","1010401",null,"电","卫生间风机","五级",102030104,"→","卫生间送排风机","10102030104"]
[null,"电","变损","三级",10302,"→",{"$f":"G42","v":"变压器损失"},"103",null,"电","给排水泵","四级",1020302,"→",{"$f":"'[1]1229标准分项库-电1（新）'!J79","v":"给排水泵"},{"$f":"'[1]1229标准分项库-电1（新）'!K79","v":"101020302"}]
[null,"电","其他","三级",10303,"→","其他用电","10105",null,"电","电梯","四级",1020303,"→","电梯","101020304"]
[null,"电","后勤办公","四级",1030301,"→",{"$f":"'[1]1229标准分项库-电1（新）'!J100","v":"后勤办公"},{"$f":"'[1]1229标准分项库-电1（新）'!K100","v":"101030101"},null,"电","直梯","五级",102030301,"→",{"$f":"O38","v":"直梯"},"10102030401"]
[null,"电","员工食堂","四级",1030302,"→",{"$f":"'[1]1229标准分项库-电1（新）'!J101","v":"食堂"},{"$f":"'[1]1229标准分项库-电1（新）'!K101","v":"101030102"},null,"电","自动扶梯","五级",102030302,"→","自动扶梯","10102030402"]
[null,"电","其他","四级",1030303,"→",{"$f":"'[1]1229标准分项库-电1（新）'!J103","v":"其他后勤区"},{"$f":"'[1]1229标准分项库-电1（新）'!K103","v":"101030104"},null,"电","特殊用电","二级",103,"→","特殊设备总用电","10104"]
[{"$nulls":9},"电","信息机房","三级",10301,"→","设备机房","1010401"]
[null,"冷","总供冷量","一级",2,"→",{"$f":"G45","v":"总供冷量"},{"$f":"H45","v":"2"},null,"电","变损","三级",10302,"→","变压器损失","103"]
[{"$nulls":9},"电","其他","三级",10303,"→","其他用电","10105"]
[null,"热","总供热量","一级",3,"→",{"$f":"G47","v":"总供热量"},3,null,"电","后勤办公","四级",1030301,"→",{"$f":"'[1]1229标准分项库-电1（新）'!J100","v":"后勤办公"},{"$f":"'[1]1229标准分项库-电1（新）'!K100","v":"101030101"}]
[null,"热","采暖耗热量","二级",301,"→","采暖耗热量",301,null,"电","员工食堂","四级",1030302,"→",{"$f":"'[1]1229标准分项库-电1（新）'!J101","v":"食堂"},{"$f":"'[1]1229标准分项库-电1（新）'!K101","v":"101030102"}]
[null,"热","生活热水耗热量","二级",302,"→","生活热水耗热量",302,null,"电","大型医疗设备用电","四级",1030303,"→",{"$f":"'[1]1229标准分项库-电1（新）'!H172","v":"特殊设备"},{"$f":"'[1]1229标准分项库-电1（新）'!I172","v":"1010402"}]
[null,"热","其他功能区耗热量","二级",303,"→","其他功能区耗热量",303,null,"电","其他","四级",1030303,"→",{"$f":"'[1]1229标准分项库-电1（新）'!J103","v":"其他后勤区"},{"$f":"'[1]1229标准分项库-电1（新）'!K103","v":"101030104"}]
[]
[null,"水","总水耗","一级",4,"→",{"$f":"G52","v":"总用水量"},"4",null,"冷","总供冷量","一级",2,"→",{"$f":"O45","v":"总供冷量"},{"$f":"P45","v":"2"}]
[null,"水","空调采暖用水","二级",401,"→","空调采暖用水",401]
[null,"水","生活热水用水","二级",402,"→","生活热水用水",402,null,"热","总供热量","一级",3,"→",{"$f":"O47","v":"总供热量"},3]
[null,"水","生活冷水（上下水系统）用水","二级",403,"→","生活冷水（上下水系统）用水",403,null,"热","采暖耗热量","二级",301,"→","采暖耗热量",301]
[null,"水","生活中水用水","二级",404,"→","生活中水用水",404,null,"热","生活热水耗热量","二级",302,"→","生活热水耗热量",302]
[null,"水","景观喷灌用水","二级",405,"→","景观喷灌用水",405,null,"热","其他功能区耗热量","二级",303,"→","其他功能区耗热量",303]
[null,"水","其他功能区用水","二级",406,"→","其他功能区用水",406]
[{"$nulls":9},"水","总水耗","一级",4,"→",{"$f":"O52","v":"总用水量"},"4"]
[null,"燃气","总燃气耗量","一级",5,"→",{"$f":"G60","v":"总燃气耗量"},5,null,"水","空调采暖用水","二级",401,"→","空调采暖用水",401]
[null,"燃气","空调采暖用气","二级",501,"→","空调采暖用气",501,null,"水","生活热水用水","二级",402,"→","生活热水用水",402]
[null,"燃气","生活热水用气","二级",502,"→","生活热水用气",502,null,"水","生活冷水（上下水系统）用水","二级",403,"→","生活冷水（上下水系统）用水",403]
[null,"燃气","其他功能区用气","二级",503,"→","其他功能区用气",503,null,"水","生活中水用水","二级",404,"→","生活中水用水",404]
[{"$nulls":9},"水","景观喷灌用水","二级",405,"→","景观喷灌用水",405]
[null,"燃油","总燃油耗量","一级",6,"→",{"$f":"G65","v":"总燃油耗量"},6,null,"水","其他功能区用水","二级",406,"→","其他功能区用水",406]
[null,"燃油","锅炉耗油","二级",601,"→","锅炉耗油",601]
[null,"燃油","发动机耗油","二级",602,"→","发动机耗油",602,null,"燃气","总燃气耗量","一级",5,"→",{"$f":"O60","v":"总燃气耗量"},5]
[null,"燃油","其他耗油分项","二级",603,"→","其他耗油分项",603,null,"燃气","空调采暖用气","二级",501,"→","空调采暖用气",501]
[{"$nulls":9},"燃气","生活热水用气","二级",502,"→","生活热水用气",502]
[null,"蒸汽","总蒸汽量","一级",7,"→",{"$f":"G70","v":"总蒸汽量"},7,null,"燃气","其他功能区用气","二级",503,"→","其他功能区用气",503]
[null,"蒸汽","空调采暖用蒸汽","二级",701,"→","空调采暖用蒸汽",701]
[null,"蒸汽","生活热水用蒸汽","二级",702,"→","生活热水用蒸汽",702,null,"燃油","总燃油耗量","一级",6,"→",{"$f":"O65","v":"总燃油耗量"},6]
[null,"蒸汽","其他功能区用蒸汽","二级",703,"→","其他功能区用蒸汽",703,null,"燃油","锅炉耗油","二级",601,"→","锅炉耗油",601]
[{"$nulls":9},"燃油","发动机耗油","二级",602,"→","发动机耗油",602]
[{"$nulls":9},"燃油","其他耗油分项","二级",603,"→","其他耗油分项",603]
[]
[{"$nulls":9},"蒸汽","总蒸汽量","一级",7,"→",{"$f":"O70","v":"总蒸汽量"},7]
[{"$nulls":9},"蒸汽","空调采暖用蒸汽","二级",701,"→","空调采暖用蒸汽",701]
[{"$nulls":9},"蒸汽","生活热水用蒸汽","二级",702,"→","生活热水用蒸汽",702]
[{"$nulls":9},"蒸汽","其他功能区用蒸汽","二级",703,"→","其他功能区用蒸汽",703]
[]
[]
[]
[null,null,"原万达集团分项树510",null,null,"→","现标准分项库-电1和其他2~15",null,null,null,"原SOHO集团分项树520",null,null,"→","现标准分项库-电1和其他2~15"]
[null,"能源种类","分项名称","分项级别","分项编码","→","分项名称","分项编码",null,"能源种类","分项名称","分项级别","分项编码","→","分项名称","分项编码"]
[null,"电","总电耗","一级",1,"→",{"$f":"'[1]1229标准分项库-电1（新）'!B8","v":"建筑总电耗"},{"$f":"'[1]1229标准分项库-电1（新）'!C8","v":"1"},null,"电","总电耗","一级",1,"→",{"$f":"'[1]1229标准分项库-电1（新）'!B8","v":"建筑总电耗"},{"$f":"'[1]1229标准分项库-电1（新）'!C8","v":"1"}]
[null,"电","大商业","二级",101,"→",{"$f":"'[1]1229标准分项库-电1（新）'!D9","v":"物业自管"},{"$f":"'[1]1229标准分项库-电1（新）'!E9","v":"101"},null,"电","租户","二级",101,"→",{"$f":"'[1]1229标准分项库-电1（新）'!F10","v":"租户总用电"},{"$f":"'[1]1229标准分项库-电1（新）'!G10","v":"10101"}]
[null,"电","租户","三级",10101,"→",{"$f":"'[1]1229标准分项库-电1（新）'!H11","v":"商业租户"},{"$f":"'[1]1229标准分项库-电1（新）'!G10","v":"10101"},null,"电","办公租户","三级",10101,"→",{"$f":"'[1]1229标准分项库-电1（新）'!H32","v":"写字楼租户"},{"$f":"'[1]1229标准分项库-电1（新）'!I32","v":"1010102"}]
[null,"电","自营主力店","四级",1010101,"→",{"$f":"'[1]1229标准分项库-电1（新）'!J12","v":"自持商业租户"},{"$f":"'[1]1229标准分项库-电1（新）'!K12","v":"101010101"},null,"电","商业租户","三级",10102,"→",{"$f":"'[1]1229标准分项库-电1（新）'!H11","v":"商业租户"},{"$f":"'[1]1229标准分项库-电1（新）'!G10","v":"10101"}]
[null,"电","影城","五级",101010101,"→",{"$f":"'[1]1229标准分项库-电1（新）'!L15","v":"影院"},{"$f":"'[1]1229标准分项库-电1（新）'!M15","v":"10101010103"},null,"电","公寓租户","三级",10103,"→",{"$f":"'[1]1229标准分项库-电1（新）'!H35","v":"公寓租户"},{"$f":"'[1]1229标准分项库-电1（新）'!I35","v":"1010103"}]
[null,"电","影城照明插座","六级",10101010101,"→",{"$f":"'[1]1229标准分项库-电1（新）'!N16","v":"影城照明插座"},{"$f":"'[1]1229标准分项库-电1（新）'!O16","v":"1010101010301"},null,"电","3Q租户","三级",10104,"→",{"$f":"'[1]1229标准分项库-电1（新）'!H37","v":"3Q租户"},{"$f":"'[1]1229标准分项库-电1（新）'!I37","v":"1010105"}]
[null,"电","影城空调","六级",10101010102,"→",{"$f":"'[1]1229标准分项库-电1（新）'!N17","v":"影城空调"},{"$f":"'[1]1229标准分项库-电1（新）'!O17","v":"1010101010302"},null,"电","公区","二级",102,"→",{"$f":"'[1]1229标准分项库-电1（新）'!F39","v":"公区总用电"},{"$f":"'[1]1229标准分项库-电1（新）'!G39","v":"10102"}]
[null,"电","影城其他用电","六级",10101010103,"→",{"$f":"'[1]1229标准分项库-电1（新）'!N18","v":"影城其他用电"},{"$f":"'[1]1229标准分项库-电1（新）'!O18","v":"1010101010303"},null,"电","暖通空调","三级",10201,"→",{"$f":"'[1]1229标准分项库-电1（新）'!H40","v":"暖通空调"},{"$f":"'[1]1229标准分项库-电1（新）'!I40","v":"1010201"}]
[null,"电","KTV","五级",101010102,"→",{"$f":"'[1]1229标准分项库-电1（新）'!L21","v":"KTV"},{"$f":"'[1]1229标准分项库-电1（新）'!M21","v":"10101010106"},null,"电","冷站","四级",1020101,"→",{"$f":"'[1]1229标准分项库-电1（新）'!L42","v":"制冷站"},{"$f":"'[1]1229标准分项库-电1（新）'!M42","v":"10102010101"}]
[null,"电","KTV照明插座","六级",10101010201,"→",{"$f":"'[1]1229标准分项库-电1（新）'!N22","v":"KTV照明插座"},{"$f":"'[1]1229标准分项库-电1（新）'!O22","v":"1010101010601"},null,"电","冷水机组","五级",102010101,"→",{"$f":"'[1]1229标准分项库-电1（新）'!N43","v":"制冷主机"},{"$f":"'[1]1229标准分项库-电1（新）'!O43","v":"1010201010101"}]
[null,"电","KTV空调","六级",10101010202,"→",{"$f":"'[1]1229标准分项库-电1（新）'!N23","v":"KTV空调"},{"$f":"'[1]1229标准分项库-电1（新）'!O23","v":"1010101010602"},null,"电","冷冻泵","五级",102010102,"→",{"$f":"'[1]1229标准分项库-电1（新）'!N44","v":"冷冻泵"},{"$f":"'[1]1229标准分项库-电1（新）'!O44","v":"1010201010102"}]
[null,"电","KTV其他用电","六级",10101010203,"→",{"$f":"'[1]1229标准分项库-电1（新）'!N24","v":"KTV其他用电"},{"$f":"'[1]1229标准分项库-电1（新）'!O24","v":"1010101010603"},null,"电","冷却泵","五级",102010103,"→",{"$f":"'[1]1229标准分项库-电1（新）'!N45","v":"冷却泵"},{"$f":"'[1]1229标准分项库-电1（新）'!O45","v":"1010201010103"}]
[null,"电","宝贝王","五级",101010103,"→",{"$f":"'[1]1229标准分项库-电1（新）'!L25","v":"儿童游艺"},{"$f":"'[1]1229标准分项库-电1（新）'!M25","v":"10101010107"},null,"电","冷却塔风机","五级",102010104,"→",{"$f":"'[1]1229标准分项库-电1（新）'!N46","v":"冷却塔"},{"$f":"'[1]1229标准分项库-电1（新）'!O46","v":"1010201010104"}]
[null,"电","其他自营主力店","五级",101010104,"→",{"$f":"'[1]1229标准分项库-电1（新）'!L27","v":"其他自持商业租户"},{"$f":"'[1]1229标准分项库-电1（新）'!M27","v":"10101010109"},null,"电","热力站","四级",1020102,"→",{"$f":"'[1]1229标准分项库-电1（新）'!L47","v":"热力站"},{"$f":"'[1]1229标准分项库-电1（新）'!M47","v":"10102010102"}]
[null,"电","外租商户","四级",1010102,"→",{"$f":"'[1]1229标准分项库-电1（新）'!J28","v":"外租商业租户"},{"$f":"'[1]1229标准分项库-电1（新）'!K28","v":"101010102"},null,"电","采暖泵","五级",102010201,"→",{"$f":"'[1]1229标准分项库-电1（新）'!N50","v":"采暖泵"},{"$f":"'[1]1229标准分项库-电1（新）'!O50","v":"1010201010203"}]
[null,"电","步行街小商铺","五级",101010201,"→",{"$f":"'[1]1229标准分项库-电1（新）'!L29","v":"步行街小商铺"},{"$f":"'[1]1229标准分项库-电1（新）'!M29","v":"10101010201"},null,"电","锅炉","五级",102010202,"→",{"$f":"'[1]1229标准分项库-电1（新）'!N48","v":"电锅炉"},{"$f":"'[1]1229标准分项库-电1（新）'!O48","v":"1010201010201"}]
[null,"电","非自营主力店","五级",101010202,"→",{"$f":"'[1]1229标准分项库-电1（新）'!L30","v":"非自持主力店"},{"$f":"'[1]1229标准分项库-电1（新）'!M30","v":"10101010202"},null,"电","热泵机组","四级",1020103,"→",{"$f":"'[1]1229标准分项库-电1（新）'!N49","v":"热泵机组"},{"$f":"'[1]1229标准分项库-电1（新）'!O49","v":"1010201010202"}]
[null,"电","其他外租商户","五级",101010203,"→",{"$f":"'[1]1229标准分项库-电1（新）'!L31","v":"其他外租商业商户"},{"$f":"'[1]1229标准分项库-电1（新）'!M31","v":"10101010203"},null,"电","空调末端及新风机组","四级",1020104,"→",{"$f":"'[1]1229标准分项库-电1（新）'!J51","v":"空调末端"},{"$f":"'[1]1229标准分项库-电1（新）'!K51","v":"101020102"}]
[null,"电","公区","三级",10102,"→",{"$f":"'[1]1229标准分项库-电1（新）'!F39","v":"公区总用电"},{"$f":"'[1]1229标准分项库-电1（新）'!G39","v":"10102"},null,"电","公共照明及其他","三级",10202,"→",{"$f":"'[1]1229标准分项库-电1（新）'!H59","v":"公共照明"},{"$f":"'[1]1229标准分项库-电1（新）'!I59","v":"1010202"}]
[null,"电","室内公用照明","四级",1010201,"→",{"$f":"'[1]1229标准分项库-电1（新）'!J60","v":"室内照明"},{"$f":"'[1]1229标准分项库-电1（新）'!K60","v":101020201},null,"电","室内普通照明","四级",1020201,"→",{"$f":"'[1]1229标准分项库-电1（新）'!L61","v":"室内普通照明"},{"$f":"'[1]1229标准分项库-电1（新）'!M61","v":"10102020101"}]
[null,"电","室内照明","五级",101020101,"→",{"$f":"'[1]1229标准分项库-电1（新）'!L61","v":"室内普通照明"},{"$f":"'[1]1229标准分项库-电1（新）'!M61","v":"10102020101"},null,"电","室内应急照明","四级",1020202,"→",{"$f":"'[1]1229标准分项库-电1（新）'!L62","v":"室内应急照明"},{"$f":"'[1]1229标准分项库-电1（新）'!M62","v":"10102020102"}]
[null,"电","应急照明","五级",101020102,"→",{"$f":"'[1]1229标准分项库-电1（新）'!L62","v":"室内应急照明"},{"$f":"'[1]1229标准分项库-电1（新）'!M62","v":"10102020102"},null,"电","停车场照明插座","四级",1020203,"→",{"$f":"'[1]1229标准分项库-电1（新）'!J68","v":"停车场照明"},{"$f":"'[1]1229标准分项库-电1（新）'!K68","v":"101020203"}]
[null,"电","夜景照明","四级",1010202,"→",{"$f":"'[1]1229标准分项库-电1（新）'!L64","v":"夜景照明"},{"$f":"'[1]1229标准分项库-电1（新）'!M64","v":"10102020201"},null,"电","室外照明","四级",1020204,"→",{"$f":"'[1]1229标准分项库-电1（新）'!J63","v":"室外照明"},{"$f":"'[1]1229标准分项库-电1（新）'!K63","v":"101020202"}]
[null,"电","夜景照明","五级",101020201,"→",{"$f":"'[1]1229标准分项库-电1（新）'!N65","v":"夜景灯具"},{"$f":"'[1]1229标准分项库-电1（新）'!O65","v":"1010202020101"},null,"电","物业办公电耗","四级",1020205,"→",{"$f":"'[1]1229标准分项库-电1（新）'!H99","v":"后勤"},{"$f":"'[1]1229标准分项库-电1（新）'!I99","v":"1010301"}]
[null,"电","LED屏","五级",101020202,"→",{"$f":"'[1]1229标准分项库-电1（新）'!N66","v":"LED屏幕"},{"$f":"'[1]1229标准分项库-电1（新）'!O66","v":"1010202020102"},null,"电","动力设备","三级",10203,"→",{"$f":"'[1]1229标准分项库-电1（新）'!H72","v":"动力设备"},{"$f":"'[1]1229标准分项库-电1（新）'!I72","v":"1010203"}]
[null,"电","暖通空调","四级",1010203,"→",{"$f":"'[1]1229标准分项库-电1（新）'!H40","v":"暖通空调"},{"$f":"'[1]1229标准分项库-电1（新）'!I40","v":"1010201"},null,"电","电梯","四级",1020301,"→",{"$f":"'[1]1229标准分项库-电1（新）'!J87","v":"电梯"},{"$f":"'[1]1229标准分项库-电1（新）'!K87","v":"101020304"}]
[null,"电","冷冻站","五级",101020301,"→",{"$f":"'[1]1229标准分项库-电1（新）'!L42","v":"制冷站"},{"$f":"'[1]1229标准分项库-电1（新）'!M42","v":"10102010101"},null,"电","直梯","五级",102030101,"→",{"$f":"'[1]1229标准分项库-电1（新）'!L88","v":"直梯"},{"$f":"'[1]1229标准分项库-电1（新）'!M88","v":"10102030401"}]
[null,"电","制冷主机","六级",10102030101,"→",{"$f":"'[1]1229标准分项库-电1（新）'!N43","v":"制冷主机"},{"$f":"'[1]1229标准分项库-电1（新）'!O43","v":"1010201010101"},null,"电","自动扶梯","五级",102030102,"→",{"$f":"'[1]1229标准分项库-电1（新）'!L92","v":"自动扶梯"},{"$f":"'[1]1229标准分项库-电1（新）'!M92","v":"10102030402"}]
[null,"电","冷冻泵","六级",10102030102,"→",{"$f":"'[1]1229标准分项库-电1（新）'!N44","v":"冷冻泵"},{"$f":"'[1]1229标准分项库-电1（新）'!O44","v":"1010201010102"},null,"电","给排水泵","四级",1020302,"→",{"$f":"'[1]1229标准分项库-电1（新）'!J79","v":"给排水泵"},{"$f":"'[1]1229标准分项库-电1（新）'!K79","v":"101020302"}]
[null,"电","冷却泵","六级",10102030103,"→",{"$f":"'[1]1229标准分项库-电1（新）'!N45","v":"冷却泵"},{"$f":"'[1]1229标准分项库-电1（新）'!O45","v":"1010201010103"},null,"电","厨房排油烟机","四级",1020303,"→",{"$f":"'[1]1229标准分项库-电1（新）'!L76","v":"厨房送排风机"},{"$f":"'[1]1229标准分项库-电1（新）'!M76","v":"10102030103"}]
[null,"电","冷却塔","六级",10102030104,"→",{"$f":"'[1]1229标准分项库-电1（新）'!N46","v":"冷却塔"},{"$f":"'[1]1229标准分项库-电1（新）'!O46","v":"1010201010104"},null,"电","停车场风机","四级",1020304,"→",{"$f":"'[1]1229标准分项库-电1（新）'!L74","v":"停车场送排风机"},{"$f":"'[1]1229标准分项库-电1（新）'!M74","v":"10102030101"}]
[null,"电","热力站","五级",101020302,"→",{"$f":"'[1]1229标准分项库-电1（新）'!L47","v":"热力站"},{"$f":"'[1]1229标准分项库-电1（新）'!M47","v":"10102010102"},null,"电","消防送排风机","四级",1020305,"→",{"$f":"'[1]1229标准分项库-电1（新）'!L75","v":"消防送排风机"},{"$f":"'[1]1229标准分项库-电1（新）'!M75","v":"10102030102"}]
[null,"电","制热主机","六级",10102030201,"→",{"$f":"'[1]1229标准分项库-电1（新）'!N48","v":"电锅炉"},{"$f":"'[1]1229标准分项库-电1（新）'!O48","v":"1010201010201"},null,"电","其他","四级",1020306,"→",{"$f":"'[1]1229标准分项库-电1（新）'!F173","v":"其他用电"},{"$f":"'[1]1229标准分项库-电1（新）'!G173","v":"10105"}]
[null,"电","采暖泵","六级",10102030202,"→",{"$f":"'[1]1229标准分项库-电1（新）'!N50","v":"采暖泵"},{"$f":"'[1]1229标准分项库-电1（新）'!O50","v":"1010201010203"},null,"电","消防水泵","四级",1020307,"→",{"$f":"'[1]1229标准分项库-电1（新）'!J86","v":"消防水泵"},{"$f":"'[1]1229标准分项库-电1（新）'!K86","v":"101020303"}]
[null,"电","空调末端","五级",101020303,"→",{"$f":"'[1]1229标准分项库-电1（新）'!J51","v":"空调末端"},{"$f":"'[1]1229标准分项库-电1（新）'!K51","v":"101020102"},null,"电","厨房动力设备","四级",1020308,"→",{"$f":"'[1]1229标准分项库-电1（新）'!J93","v":"厨房动力设备"},{"$f":"'[1]1229标准分项库-电1（新）'!K93","v":"101020305"}]
[null,"电","空调箱","六级",10102030301,"→",{"$f":"'[1]1229标准分项库-电1（新）'!L52","v":"空调箱"},{"$f":"'[1]1229标准分项库-电1（新）'!M52","v":"10102010201"},null,"电","消防及其它动力设备","四级",1020309,"→",{"$f":"'[1]1229标准分项库-电1（新）'!L75","v":"消防送排风机"},{"$f":"'[1]1229标准分项库-电1（新）'!M75","v":"10102030102"}]
[null,"电","新风机组","六级",10102030302,"→",{"$f":"'[1]1229标准分项库-电1（新）'!L53","v":"新风机组"},{"$f":"'[1]1229标准分项库-电1（新）'!M53","v":"10102010202"},null,"电","特殊设备","四级",1020310,"→",{"$f":"'[1]1229标准分项库-电1（新）'!F163","v":"特殊设备总用电"},{"$f":"'[1]1229标准分项库-电1（新）'!G163","v":"10104"}]
[null,"电","风机盘管","六级",10102030303,"→",{"$f":"'[1]1229标准分项库-电1（新）'!L54","v":"风机盘管/VAV"},{"$f":"'[1]1229标准分项库-电1（新）'!M54","v":"10102010203"}]
[null,"电","热风幕","五级",101020304,"→",{"$f":"'[1]1229标准分项库-电1（新）'!L57","v":"热风幕"},{"$f":"'[1]1229标准分项库-电1（新）'!M57","v":"10102010206"},null,"冷","总供冷量","一级",2,"→",{"$f":"O142","v":"总供冷量"},{"$f":"P142","v":"2"}]
[null,"电","送排风机","五级",101020305,"→",{"$f":"'[1]1229标准分项库-电1（新）'!J73","v":"送排风机"},{"$f":"'[1]1229标准分项库-电1（新）'!K73","v":"101020301"}]
[null,"电","地上消防风机","六级",10102030501,"→",{"$f":"'[1]1229标准分项库-电1（新）'!L75","v":"消防送排风机"},{"$f":"'[1]1229标准分项库-电1（新）'!M75","v":"10102030102"},null,"热","总供热量","一级",3,"→",{"$f":"O144","v":"总供热量"},3]
[null,"电","其他送排风机","六级",10102030502,"→",{"$f":"'[1]1229标准分项库-电1（新）'!L78","v":"其他送排风机"},{"$f":"'[1]1229标准分项库-电1（新）'!M78","v":"10102030105"},null,"热","采暖耗热量","二级",301,"→","采暖耗热量",301]
[null,"电","分散空调","五级",101020306,"→",{"$f":"'[1]1229标准分项库-电1（新）'!L55","v":"分体空调"},{"$f":"'[1]1229标准分项库-电1（新）'!M55","v":"10102010204"},null,"热","生活热水耗热量","二级",302,"→","生活热水耗热量",302]
[null,"电","停车场","四级",1010204,"→","舍弃",null,null,"热","其他功能区耗热量","二级",303,"→","其他功能区耗热量",303]
[null,"电","停车场照明","五级",101020401,"→",{"$f":"'[1]1229标准分项库-电1（新）'!J68","v":"停车场照明"},{"$f":"'[1]1229标准分项库-电1（新）'!K68","v":"101020203"}]
[null,"电","停车场风机","五级",101020402,"→",{"$f":"'[1]1229标准分项库-电1（新）'!L74","v":"停车场送排风机"},{"$f":"'[1]1229标准分项库-电1（新）'!M74","v":"10102030101"},null,"水","总水耗","一级",4,"→",{"$f":"O149","v":"总用水量"},"4"]
[null,"电","电梯","四级",1010205,"→",{"$f":"'[1]1229标准分项库-电1（新）'!J87","v":"电梯"},{"$f":"'[1]1229标准分项库-电1（新）'!K87","v":"101020304"},null,"水","空调采暖用水","二级",401,"→","空调采暖用水",401]
[null,"电","自动扶梯","五级",101020501,"→",{"$f":"'[1]1229标准分项库-电1（新）'!L92","v":"自动扶梯"},{"$f":"'[1]1229标准分项库-电1（新）'!M92","v":"10102030402"},null,"水","生活热水用水","二级",402,"→","生活热水用水",402]
[null,"电","直梯","五级",101020502,"→",{"$f":"'[1]1229标准分项库-电1（新）'!L88","v":"直梯"},{"$f":"'[1]1229标准分项库-电1（新）'!M88","v":"10102030401"},null,"水","生活冷水（上下水系统）用水","二级",403,"→","生活冷水（上下水系统）用水",403]
[null,"电","给排水泵","四级",1010206,"→",{"$f":"'[1]1229标准分项库-电1（新）'!J79","v":"给排水泵"},{"$f":"'[1]1229标准分项库-电1（新）'!K79","v":"101020302"},null,"水","生活中水用水","二级",404,"→","生活中水用水",404]
[null,"电","生活水泵","五级",101020601,"→",{"$f":"'[1]1229标准分项库-电1（新）'!L80","v":"给水泵/生活水泵"},{"$f":"'[1]1229标准分项库-电1（新）'!M80","v":"10102030201"},null,"水","景观喷灌用水","二级",405,"→","景观喷灌用水",405]
[null,"电","排污泵","五级",101020602,"→",{"$f":"'[1]1229标准分项库-电1（新）'!L82","v":"排污泵"},{"$f":"'[1]1229标准分项库-电1（新）'!M82","v":"10102030203"},null,"水","其他功能区用水","二级",406,"→","其他功能区用水",406]
[null,"电","中水系统","五级",101020603,"→",{"$f":"'[1]1229标准分项库-电1（新）'!L85","v":"中水泵"},{"$f":"'[1]1229标准分项库-电1（新）'!M85","v":"10102030206"}]
[null,"电","消防水泵","五级",101020604,"→",{"$f":"'[1]1229标准分项库-电1（新）'!J86","v":"消防水泵"},{"$f":"'[1]1229标准分项库-电1（新）'!K86","v":"101020303"},null,"燃气","总燃气耗量","一级",5,"→",{"$f":"O157","v":"总燃气耗量"},5]
[null,"电","强弱电机房","四级",1010207,"→",{"$f":"'[1]1229标准分项库-电1（新）'!H164","v":"设备机房"},{"$f":"'[1]1229标准分项库-电1（新）'!I164","v":"1010401"},null,"燃气","空调采暖用气","二级",501,"→","空调采暖用气",501]
[null,"电","信息机房","五级",101020701,"→",{"$f":"'[1]1229标准分项库-电1（新）'!J169","v":"信息机房"},{"$f":"'[1]1229标准分项库-电1（新）'!K169","v":"101040105"},null,"燃气","生活热水用气","二级",502,"→","生活热水用气",502]
[null,"电","消防中控室","五级",101020702,"→",{"$f":"'[1]1229标准分项库-电1（新）'!J167","v":"消防机房"},{"$f":"'[1]1229标准分项库-电1（新）'!K167","v":"101040103"},null,"燃气","其他功能区用气","二级",503,"→","其他功能区用气",503]
[null,"电","变配电室","五级",101020703,"→",{"$f":"'[1]1229标准分项库-电1（新）'!J170","v":"变配电室"},{"$f":"'[1]1229标准分项库-电1（新）'!K170","v":"101040106"}]
[null,"电","其他强弱电机房","五级",101020704,"→",{"$f":"'[1]1229标准分项库-电1（新）'!J171","v":"其他设备机房"},{"$f":"'[1]1229标准分项库-电1（新）'!K171","v":"101040107"},null,"燃油","总燃油耗量","一级",6,"→",{"$f":"O162","v":"总燃油耗量"},6]
[null,"电","物业用电","四级",1010208,"→",{"$f":"'[1]1229标准分项库-电1（新）'!H99","v":"后勤"},{"$f":"'[1]1229标准分项库-电1（新）'!I99","v":"1010301"},null,"燃油","锅炉耗油","二级",601,"→","锅炉耗油",601]
[null,"电","其他用电","四级",1010209,"→",{"$f":"'[1]1229标准分项库-电1（新）'!F173","v":"其他用电"},{"$f":"'[1]1229标准分项库-电1（新）'!G173","v":"10105"},null,"燃油","发动机耗油","二级",602,"→","发动机耗油",602]
[null,"电","百货","二级",102,"→",{"$f":"'[1]1229标准分项库-电1（新）'!L19","v":"百货"},{"$f":"'[1]1229标准分项库-电1（新）'!M19","v":"10101010104"},null,"燃油","其他耗油分项","二级",603,"→","其他耗油分项",603]
[null,"电","照明插座","三级",10201,"→",{"$f":"'[1]1229标准分项库-电1（新）'!H59","v":"公共照明"},{"$f":"'[1]1229标准分项库-电1（新）'!I59","v":"1010202"}]
[null,"电","室内照明","四级",1020101,"→",{"$f":"'[1]1229标准分项库-电1（新）'!J60","v":"室内照明"},{"$f":"'[1]1229标准分项库-电1（新）'!K60","v":101020201},null,"蒸汽","总蒸汽量","一级",7,"→",{"$f":"O167","v":"总蒸汽量"},7]
[null,"电","室内照明","五级",102010101,"→",{"$f":"'[1]1229标准分项库-电1（新）'!L61","v":"室内普通照明"},{"$f":"'[1]1229标准分项库-电1（新）'!M61","v":"10102020101"},null,"蒸汽","空调采暖用蒸汽","二级",701,"→","空调采暖用蒸汽",701]
[null,"电","应急照明","五级",102010102,"→",{"$f":"'[1]1229标准分项库-电1（新）'!L62","v":"室内应急照明"},{"$f":"'[1]1229标准分项库-电1（新）'!M62","v":"10102020102"},null,"蒸汽","生活热水用蒸汽","二级",702,"→","生活热水用蒸汽",702]
[null,"电","夜景照明","四级",1020102,"→",{"$f":"'[1]1229标准分项库-电1（新）'!L64","v":"夜景照明"},{"$f":"'[1]1229标准分项库-电1（新）'!M64","v":"10102020201"},null,"蒸汽","其他功能区用蒸汽","二级",703,"→","其他功能区用蒸汽",703]
[null,"电","夜景照明","五级",102010201,"→",{"$f":"'[1]1229标准分项库-电1（新）'!N65","v":"夜景灯具"},{"$f":"'[1]1229标准分项库-电1（新）'!O65","v":"1010202020101"}]
[null,"电","LED屏","五级",102010202,"→",{"$f":"'[1]1229标准分项库-电1（新）'!N66","v":"LED屏幕"},{"$f":"'[1]1229标准分项库-电1（新）'!O66","v":"1010202020102"}]
[null,"电","暖通空调","三级",10202,"→",{"$f":"G201","v":"暖通空调"},{"$f":"H201","v":"1010201"}]
[null,"电","冷冻站","四级",1020201,"→",{"$f":"G202","v":"制冷站"},"10102010101"]
[null,"电","制冷主机","五级",102020101,"→","制冷主机","1010201010101"]
[null,"电","冷冻泵","五级",102020102,"→","冷冻泵","1010201010102"]
[null,"电","冷却泵","五级",102020103,"→","冷却泵","1010201010103"]
[null,"电","冷却塔","五级",102020104,"→","冷却塔","1010201010104"]
[null,"电","热力站","四级",1020202,"→","热力站","10102010102"]
[null,"电","制热主机","五级",102020201,"→","电锅炉","1010201010201"]
[null,"电","采暖泵","五级",102020202,"→","采暖泵","1010201010203"]
[null,"电","冷却泵","五级",102020203,"→",{"$f":"G249","v":"冷却泵"},{"$f":"H249","v":"1010201010103"}]
[null,"电","冷却塔","五级",102020204,"→",{"$f":"G250","v":"冷却塔"},{"$f":"H250","v":"1010201010104"}]
[null,"电","空调末端","四级",1020203,"→",{"$f":"G210","v":"空调末端"},{"$f":"H210","v":"101020102"}]
[null,"电","空调箱","五级",102020301,"→",{"$f":"G211","v":"空调箱"},"10102010201"]
[null,"电","新风机组","五级",102020302,"→","新风机组","10102010202"]
[null,"电","风机盘管","五级",102020303,"→","风机盘管/VAV","10102010203"]
[null,"电","热风幕","四级",1020204,"→","热风幕","10102010206"]
[null,"电","送排风机","四级",1020205,"→","送排风机","101020301"]
[null,"电","地上消防风机","五级",102020501,"→","消防送排风机","10102030102"]
[null,"电","其他送排风机","五级",102020502,"→",{"$f":"'[1]1229标准分项库-电1（新）'!L78","v":"其他送排风机"},{"$f":"'[1]1229标准分项库-电1（新）'!M78","v":"10102030105"}]
[null,"电","分散空调","四级",1020206,"→","分体空调","10102010204"]
[null,"电","电梯","三级",10203,"→",{"$f":"'[1]1229标准分项库-电1（新）'!J87","v":"电梯"},{"$f":"'[1]1229标准分项库-电1（新）'!K87","v":"101020304"}]
[null,"电","自动扶梯","四级",1020301,"→",{"$f":"'[1]1229标准分项库-电1（新）'!L92","v":"自动扶梯"},{"$f":"'[1]1229标准分项库-电1（新）'!M92","v":"10102030402"}]
[null,"电","直梯","四级",1020302,"→",{"$f":"'[1]1229标准分项库-电1（新）'!L88","v":"直梯"},{"$f":"'[1]1229标准分项库-电1（新）'!M88","v":"10102030401"}]
[null,"电","给排水泵","三级",10204,"→",{"$f":"'[1]1229标准分项库-电1（新）'!J79","v":"给排水泵"},{"$f":"'[1]1229标准分项库-电1（新）'!K79","v":"101020302"}]
[null,"电","生活水泵","四级",1020401,"→",{"$f":"'[1]1229标准分项库-电1（新）'!L80","v":"给水泵/生活水泵"},{"$f":"'[1]1229标准分项库-电1（新）'!M80","v":"10102030201"}]
[null,"电","排污泵","四级",1020402,"→",{"$f":"G227","v":"排污泵"},{"$f":"H227","v":"10102030203"}]
[null,"电","中水系统","四级",1020403,"→",{"$f":"'[1]1229标准分项库-电1（新）'!L85","v":"中水泵"},{"$f":"'[1]1229标准分项库-电1（新）'!M85","v":"10102030206"}]
[null,"电","消防水泵","四级",1020404,"→",{"$f":"G229","v":"消防水泵"},"101020303"]
[null,"电","强弱电机房","三级",10205,"→","设备机房","1010401"]
[null,"电","信息机房","四级",1020501,"→","信息机房","101040105"]
[null,"电","消防中控室","四级",1020502,"→","消防机房","101040103"]
[null,"电","变配电室","四级",1020503,"→",{"$f":"'[1]1229标准分项库-电1（新）'!J170","v":"变配电室"},{"$f":"'[1]1229标准分项库-电1（新）'!K170","v":"101040106"}]
[null,"电","其他强弱电机房","四级",1020504,"→",{"$f":"'[1]1229标准分项库-电1（新）'!J171","v":"其他设备机房"},{"$f":"'[1]1229标准分项库-电1（新）'!K171","v":"101040107"}]
[null,"电","物业用电","三级",10206,"→","后勤","1010301"]
[null,"电","其他用电","三级",10207,"→","其他用电","10105"]
[null,"电","超市","二级",103,"→",{"$f":"'[1]1229标准分项库-电1（新）'!L20","v":"超市"},{"$f":"'[1]1229标准分项库-电1（新）'!M20","v":"10101010105"}]
[]
[null,"冷","总供冷量","一级",2,"→",{"$f":"'[1]标准分项库-其他2~15（新）'!C5","v":"总供冷量"},{"$f":"'[1]标准分项库-其他2~15（新）'!D5","v":"2"}]
[]
[null,"热","总供热量","一级",3,"→",{"$f":"'[1]标准分项库-其他2~15（新）'!C10","v":"总供热量"},{"$f":"'[1]标准分项库-其他2~15（新）'!D10","v":3}]
[null,"热","采暖耗热量","二级",301,"→",{"$f":"'[1]标准分项库-其他2~15（新）'!E11","v":"采暖耗热量"},{"$f":"'[1]标准分项库-其他2~15（新）'!F11","v":301}]
[null,"热","生活热水耗热量","二级",302,"→",{"$f":"'[1]标准分项库-其他2~15（新）'!E12","v":"生活热水耗热量"},{"$f":"'[1]标准分项库-其他2~15（新）'!F12","v":302}]
[null,"热","其他功能区耗热量","二级",303,"→",{"$f":"'[1]标准分项库-其他2~15（新）'!E13","v":"其他功能区耗热量"},{"$f":"'[1]标准分项库-其他2~15（新）'!F13","v":303}]
[]
[null,"水","总水耗","一级",4,"→",{"$f":"'[1]标准分项库-其他2~15（新）'!C18","v":"总用水量"},{"$f":"'[1]标准分项库-其他2~15（新）'!D18","v":"4"}]
[null,"水","空调采暖用水","二级",401,"→",{"$f":"'[1]标准分项库-其他2~15（新）'!E19","v":"空调采暖用水"},{"$f":"'[1]标准分项库-其他2~15（新）'!F19","v":401}]
[null,"水","生活热水用水","二级",402,"→",{"$f":"'[1]标准分项库-其他2~15（新）'!E20","v":"生活热水用水"},{"$f":"'[1]标准分项库-其他2~15（新）'!F20","v":402}]
[null,"水","生活冷水（上下水系统）用水","二级",403,"→",{"$f":"'[1]标准分项库-其他2~15（新）'!E21","v":"生活冷水（上下水系统）用水"},{"$f":"'[1]标准分项库-其他2~15（新）'!F21","v":403}]
[null,"水","生活中水用水","二级",404,"→",{"$f":"'[1]标准分项库-其他2~15（新）'!E22","v":"生活中水用水"},{"$f":"'[1]标准分项库-其他2~15（新）'!F22","v":404}]
[null,"水","景观喷灌用水","二级",405,"→",{"$f":"'[1]标准分项库-其他2~15（新）'!E23","v":"景观喷灌用水"},{"$f":"'[1]标准分项库-其他2~15（新）'!F23","v":405}]
[null,"水","其他功能区用水","二级",406,"→",{"$f":"'[1]标准分项库-其他2~15（新）'!E24","v":"其他功能区用水"},{"$f":"'[1]标准分项库-其他2~15（新）'!F24","v":406}]
[]
[null,"燃气","总燃气耗量","一级",5,"→",{"$f":"'[1]标准分项库-其他2~15（新）'!C29","v":"总燃气耗量"},{"$f":"'[1]标准分项库-其他2~15（新）'!D29","v":5}]
[null,"燃气","空调采暖用气","二级",501,"→",{"$f":"'[1]标准分项库-其他2~15（新）'!E30","v":"空调采暖用气"},{"$f":"'[1]标准分项库-其他2~15（新）'!F30","v":501}]
[null,"燃气","生活热水用气","二级",502,"→",{"$f":"'[1]标准分项库-其他2~15（新）'!E31","v":"生活热水用气"},{"$f":"'[1]标准分项库-其他2~15（新）'!F31","v":502}]
[null,"燃气","其他功能区用气","二级",503,"→",{"$f":"'[1]标准分项库-其他2~15（新）'!E32","v":"其他功能区用气"},{"$f":"'[1]标准分项库-其他2~15（新）'!F32","v":503}]
[]
[null,"燃油","总燃油耗量","一级",6,"→",{"$f":"'[1]标准分项库-其他2~15（新）'!C37","v":"总燃油耗量"},{"$f":"'[1]标准分项库-其他2~15（新）'!D37","v":6}]
[null,"燃油","锅炉耗油","二级",601,"→",{"$f":"'[1]标准分项库-其他2~15（新）'!E38","v":"锅炉耗油"},{"$f":"'[1]标准分项库-其他2~15（新）'!F38","v":601}]
[null,"燃油","发动机耗油","二级",602,"→",{"$f":"'[1]标准分项库-其他2~15（新）'!E39","v":"发动机耗油"},{"$f":"'[1]标准分项库-其他2~15（新）'!F39","v":602}]
[null,"燃油","其他耗油分项","二级",603,"→",{"$f":"'[1]标准分项库-其他2~15（新）'!E40","v":"其他耗油分项"},{"$f":"'[1]标准分项库-其他2~15（新）'!F40","v":603}]
[]
[null,"蒸汽","总蒸汽量","一级",7,"→",{"$f":"'[1]标准分项库-其他2~15（新）'!C45","v":"总蒸汽量"},{"$f":"'[1]标准分项库-其他2~15（新）'!D45","v":7}]
[null,"蒸汽","空调采暖用蒸汽","二级",701,"→",{"$f":"'[1]标准分项库-其他2~15（新）'!E46","v":"空调采暖用蒸汽"},{"$f":"'[1]标准分项库-其他2~15（新）'!F46","v":701}]
[null,"蒸汽","生活热水用蒸汽","二级",702,"→",{"$f":"'[1]标准分项库-其他2~15（新）'!E47","v":"生活热水用蒸汽"},{"$f":"'[1]标准分项库-其他2~15（新）'!F47","v":702}]
[null,"蒸汽","其他功能区用蒸汽","二级",703,"→",{"$f":"'[1]标准分项库-其他2~15（新）'!E48","v":"其他功能区用蒸汽"},{"$f":"'[1]标准分项库-其他2~15（新）'!F48","v":703}]